BEGIN:VCALENDAR
VERSION:2.0
PRODID:-//Figurentheater Grashüpfer - ECPv6.15.12.2//NONSGML v1.0//EN
CALSCALE:GREGORIAN
METHOD:PUBLISH
X-WR-CALNAME:Figurentheater Grashüpfer
X-ORIGINAL-URL:https://theater-treptower-park.de
X-WR-CALDESC:Veranstaltungen für Figurentheater Grashüpfer
REFRESH-INTERVAL;VALUE=DURATION:PT1H
X-Robots-Tag:noindex
X-PUBLISHED-TTL:PT1H
BEGIN:VTIMEZONE
TZID:Europe/Berlin
BEGIN:DAYLIGHT
TZOFFSETFROM:+0100
TZOFFSETTO:+0200
TZNAME:CEST
DTSTART:20230326T010000
END:DAYLIGHT
BEGIN:STANDARD
TZOFFSETFROM:+0200
TZOFFSETTO:+0100
TZNAME:CET
DTSTART:20231029T010000
END:STANDARD
BEGIN:DAYLIGHT
TZOFFSETFROM:+0100
TZOFFSETTO:+0200
TZNAME:CEST
DTSTART:20240331T010000
END:DAYLIGHT
BEGIN:STANDARD
TZOFFSETFROM:+0200
TZOFFSETTO:+0100
TZNAME:CET
DTSTART:20241027T010000
END:STANDARD
BEGIN:DAYLIGHT
TZOFFSETFROM:+0100
TZOFFSETTO:+0200
TZNAME:CEST
DTSTART:20250330T010000
END:DAYLIGHT
BEGIN:STANDARD
TZOFFSETFROM:+0200
TZOFFSETTO:+0100
TZNAME:CET
DTSTART:20251026T010000
END:STANDARD
END:VTIMEZONE
BEGIN:VEVENT
DTSTART;TZID=Europe/Berlin:20240409T100000
DTEND;TZID=Europe/Berlin:20240409T104500
DTSTAMP:20260423T183142
CREATED:20231017T113554Z
LAST-MODIFIED:20240109T102618Z
UID:6737-1712656800-1712659500@theater-treptower-park.de
SUMMARY:Bremer Stadtmusikanten
DESCRIPTION:On the road mit Esel\, Hund\, Katze und Hahn in 4 Sprachen \nGeschlagen! Gefeuert! Zu alt! Dieses gemeinsame Schicksal verbindet Esel\, Hund\, Katze und Hahn. Aber sie haben einen Plan\, denn: „Etwas besseres als den Tod finden wir allemal“. Zusammen machen sie sich auf den Weg nach Bremen. Zwar kommen sie nicht dort an wo sie hin wollten\, haben aber etwas Besseres als den Tod allemal gefunden – nämlich Freunde und eine Perspektive.\nDie vier Tiere verkörpern vier verschiedene Nationalitäten und sprechen verschiedene Sprachen: Deutsch\, Englisch\, Russisch und Türkisch als Auswahl für eine multikulturelle Gesellschaft. Protagonist ist der Esel. Mit ihm beginnt schauspielerisch das Stück\, er spricht deutsch und leitet die Kinder durch die Geschichte. Mit jedem Tier taucht eine Puppe mit einer neuen Sprache und Spielform auf. Einziges Bühnenelement ist ein Hometrainer\, das Fahrrad. Musik ist ein Mittel der Kommunikation wo es sonst keine gemeinsame Sprache gibt. Jedem Tier ist ein musikalisches Element zugeordnet – Rhythmus\, Bass\, Harmonie\, Melodie. Diese werden „gestapelt“ und ergeben so ein sinnvolles Ganzes – einen Song! Das Prinzip Solidarität wird nicht nur inhaltlich sondern auch optisch und akustisch wahrnehmbar. Nach der erfolgreichen Zusammenarbeit bei „Paul und Paula – eine Legende“ widmen sich Rike Schuberty\, Tilla Kratochwil und Janna Skroblin dem Märchenklassiker der Brüder Grimm. Die Musik zum Stück komponierte Masha Qrella. \nFür Leute ab 4 Jahren. \nRegie: Tilla Kratochwil\nAusstattung: Janna Skroblin\nMusik: Masha Qrella\nSpiel: Rike Schuberty \nTrailer \nRike Schuberty \nIn Koproduktion mit dem Figurentheater Grashüpfer im Treptower Park\nGefördert vom Bezirksamt Treptow-Köpenick Berlin \nNominierung für den IKARUS 2018. \n_________ \nWenn Sie gerne für Ihre Gruppe (Kita\, Schule usw.) Plätze reservieren möchten\, nutzen Sie bitte nicht das von Pretix vorgefertigte Ticket-Programm\, sondern wenden Sie sich direkt an uns: \nKontakt@theater-grashuepfer.de \n030/53 69 51 50
URL:https://theater-treptower-park.de/termin/bremer-stadtmusikanten/2024-04-09/
LOCATION:Figurentheater Grashüpfer\, Puschkinallee 16 a\, Berlin\, Berlin\, 12435\, Deutschland
ATTACH;FMTTYPE=image/jpeg:https://theater-treptower-park.de/wp-content/uploads/2023/10/bremer.jpg
END:VEVENT
END:VCALENDAR