BEGIN:VCALENDAR
VERSION:2.0
PRODID:-//Figurentheater Grashüpfer - ECPv6.15.12.2//NONSGML v1.0//EN
CALSCALE:GREGORIAN
METHOD:PUBLISH
X-ORIGINAL-URL:https://theater-treptower-park.de
X-WR-CALDESC:Veranstaltungen für Figurentheater Grashüpfer
REFRESH-INTERVAL;VALUE=DURATION:PT1H
X-Robots-Tag:noindex
X-PUBLISHED-TTL:PT1H
BEGIN:VTIMEZONE
TZID:Europe/Berlin
BEGIN:DAYLIGHT
TZOFFSETFROM:+0100
TZOFFSETTO:+0200
TZNAME:CEST
DTSTART:20220327T010000
END:DAYLIGHT
BEGIN:STANDARD
TZOFFSETFROM:+0200
TZOFFSETTO:+0100
TZNAME:CET
DTSTART:20221030T010000
END:STANDARD
BEGIN:DAYLIGHT
TZOFFSETFROM:+0100
TZOFFSETTO:+0200
TZNAME:CEST
DTSTART:20230326T010000
END:DAYLIGHT
BEGIN:STANDARD
TZOFFSETFROM:+0200
TZOFFSETTO:+0100
TZNAME:CET
DTSTART:20231029T010000
END:STANDARD
BEGIN:DAYLIGHT
TZOFFSETFROM:+0100
TZOFFSETTO:+0200
TZNAME:CEST
DTSTART:20240331T010000
END:DAYLIGHT
BEGIN:STANDARD
TZOFFSETFROM:+0200
TZOFFSETTO:+0100
TZNAME:CET
DTSTART:20241027T010000
END:STANDARD
END:VTIMEZONE
BEGIN:VEVENT
DTSTART;TZID=Europe/Berlin:20230121T160000
DTEND;TZID=Europe/Berlin:20230121T164500
DTSTAMP:20260423T183328
CREATED:20221119T132009Z
LAST-MODIFIED:20230129T161400Z
UID:4707-1674316800-1674319500@theater-treptower-park.de
SUMMARY:Der kleine Eisbär // Figurentheater Ute Kahmann // ab 4
DESCRIPTION:Nach dem Kinderbuchklassiker von Hanns de Beer. \nLars\, der kleine Eisbär\, sehnt sich nach den Abenteuern der weiten Welt. Als er eine Kiste findet\, vor der ein lustiger Pappbär steht\, dauert sein Spiel nicht lange und „klapp“\, ist er gefangen. Im Bauch eines Flugzeuges zerbricht seine Falle und er lernt das Walross Balthasar und das Braunbärmädchen Lea kennen. Bei einer Zwischenlandung können sie fliehen und zu dritt gelangen sie auf vergnügliche und abenteuerliche Weise zum Nordpol zurück. \nTurbulente Entdeckungsreise auf Tatzenspuren …\nIm Verlauf der vergnüglichen Handlung gibt es für die Kinder viel zu sehen\, zu staunen und zu lachen. Mit ausdrucksstarker und sehr wandelbarer Stimme schlüpft Ute Kahmann in die unterschiedlichsten Rollen und wechselt in Sekundenschnelle in die jeweiligen Charaktere.\nDas Geschehen auf der Bühne hält die Kinder in Atem. \nSpiel: Ute Kahmann\nRegie: Tilman Harte\nFiguren: fabula Werkstätten\, Peter Röders\nFoto: Katharina Stillisch \nFigurentheater Ute Kahmann \n________ \nWenn Sie gerne für Ihre Gruppe (Kita\, Schule usw.) Plätze reservieren möchten\, nutzen Sie bitte nicht das von Pretix vorgefertigte Ticket-Programm\, sondern wenden Sie sich direkt an uns: \nKontakt@theater-grashuepfer.de \n030/53 69 51 50
URL:https://theater-treptower-park.de/termin/der-kleine-eisbaer-figurentheater-ute-kahmann-ab-4/2023-01-21/
LOCATION:Figurentheater Grashüpfer\, Puschkinallee 16 a\, Berlin\, Berlin\, 12435\, Deutschland
END:VEVENT
END:VCALENDAR