BEGIN:VCALENDAR
VERSION:2.0
PRODID:-//Figurentheater Grashüpfer - ECPv6.15.12.2//NONSGML v1.0//EN
CALSCALE:GREGORIAN
METHOD:PUBLISH
X-ORIGINAL-URL:https://theater-treptower-park.de
X-WR-CALDESC:Veranstaltungen für Figurentheater Grashüpfer
REFRESH-INTERVAL;VALUE=DURATION:PT1H
X-Robots-Tag:noindex
X-PUBLISHED-TTL:PT1H
BEGIN:VTIMEZONE
TZID:Europe/Berlin
BEGIN:DAYLIGHT
TZOFFSETFROM:+0100
TZOFFSETTO:+0200
TZNAME:CEST
DTSTART:20220327T010000
END:DAYLIGHT
BEGIN:STANDARD
TZOFFSETFROM:+0200
TZOFFSETTO:+0100
TZNAME:CET
DTSTART:20221030T010000
END:STANDARD
BEGIN:DAYLIGHT
TZOFFSETFROM:+0100
TZOFFSETTO:+0200
TZNAME:CEST
DTSTART:20230326T010000
END:DAYLIGHT
BEGIN:STANDARD
TZOFFSETFROM:+0200
TZOFFSETTO:+0100
TZNAME:CET
DTSTART:20231029T010000
END:STANDARD
BEGIN:DAYLIGHT
TZOFFSETFROM:+0100
TZOFFSETTO:+0200
TZNAME:CEST
DTSTART:20240331T010000
END:DAYLIGHT
BEGIN:STANDARD
TZOFFSETFROM:+0200
TZOFFSETTO:+0100
TZNAME:CET
DTSTART:20241027T010000
END:STANDARD
END:VTIMEZONE
BEGIN:VEVENT
DTSTART;TZID=Europe/Berlin:20230513T160000
DTEND;TZID=Europe/Berlin:20230513T164000
DTSTAMP:20260423T214745
CREATED:20230209T222027Z
LAST-MODIFIED:20230213T114824Z
UID:5139-1683993600-1683996000@theater-treptower-park.de
SUMMARY:Der standhafte Zinnsoldat
DESCRIPTION:Eines Tages bekommt ein kleiner Junge 25 Zinnsoldaten zum Geburtstag geschenkt\, alle sind gleich\, außer einem er hat nur ein Bein. Dieser verliebt sich in eine Balletttänzerin\, die in einem Papierschloß lebt.\nEr wird jedoch von einem Troll ermahnt\, sie in Ruhe zu lassen\, da sie ihm gehöre! \nDie Bühne ein kompaktes System von Verstecken und Überraschungen – sie ist Kaleidoskop der Träume des Zinnsoldaten und der Ort der Geschichte. \nOb das alles mit rechten Dingen zugeht zeigt Henrik Rosenquist Andersen in alter ANDERSENs KOFFER THEATER Tradition für Kinder ab 3 Jahren. \nAndersens Koffer Theater \n______ \n  \nWenn Sie gerne für Ihre Gruppe (Kita\, Schule usw.) Plätze reservieren möchten\, nutzen Sie bitte nicht das von Pretix vorgefertigte Ticket-Programm\, sondern wenden Sie sich direkt an uns: \nKontakt@theater-grashuepfer.de \n030/53 69 51 50
URL:https://theater-treptower-park.de/termin/der-standhafte-zinnsoldat/2023-05-13/
LOCATION:Figurentheater Grashüpfer\, Puschkinallee 16 a\, Berlin\, Berlin\, 12435\, Deutschland
ATTACH;FMTTYPE=image/jpeg:https://theater-treptower-park.de/wp-content/uploads/2023/02/Der-standhafte-Zinnsoldat.002..jpg
END:VEVENT
END:VCALENDAR