BEGIN:VCALENDAR
VERSION:2.0
PRODID:-//Figurentheater Grashüpfer - ECPv6.15.12.2//NONSGML v1.0//EN
CALSCALE:GREGORIAN
METHOD:PUBLISH
X-WR-CALNAME:Figurentheater Grashüpfer
X-ORIGINAL-URL:https://theater-treptower-park.de
X-WR-CALDESC:Veranstaltungen für Figurentheater Grashüpfer
REFRESH-INTERVAL;VALUE=DURATION:PT1H
X-Robots-Tag:noindex
X-PUBLISHED-TTL:PT1H
BEGIN:VTIMEZONE
TZID:Europe/Berlin
BEGIN:DAYLIGHT
TZOFFSETFROM:+0100
TZOFFSETTO:+0200
TZNAME:CEST
DTSTART:20230326T010000
END:DAYLIGHT
BEGIN:STANDARD
TZOFFSETFROM:+0200
TZOFFSETTO:+0100
TZNAME:CET
DTSTART:20231029T010000
END:STANDARD
BEGIN:DAYLIGHT
TZOFFSETFROM:+0100
TZOFFSETTO:+0200
TZNAME:CEST
DTSTART:20240331T010000
END:DAYLIGHT
BEGIN:STANDARD
TZOFFSETFROM:+0200
TZOFFSETTO:+0100
TZNAME:CET
DTSTART:20241027T010000
END:STANDARD
BEGIN:DAYLIGHT
TZOFFSETFROM:+0100
TZOFFSETTO:+0200
TZNAME:CEST
DTSTART:20250330T010000
END:DAYLIGHT
BEGIN:STANDARD
TZOFFSETFROM:+0200
TZOFFSETTO:+0100
TZNAME:CET
DTSTART:20251026T010000
END:STANDARD
END:VTIMEZONE
BEGIN:VEVENT
DTSTART;TZID=Europe/Berlin:20240825T110000
DTEND;TZID=Europe/Berlin:20240825T114500
DTSTAMP:20260421T183253
CREATED:20240516T111637Z
LAST-MODIFIED:20240516T115117Z
UID:7548-1724583600-1724586300@theater-treptower-park.de
SUMMARY:Die Nachtigall
DESCRIPTION:Die Kinder werden nach China\, in das Schloss eines chinesischen Kaisers eingeladen.\nEs ist die poetische Geschichte „vom Schönen im Einfachen“\, die musikalisch und märchenhaft erzählt wird.\nNach circa 45 Minuten findet die Geschichte ihr gutes Ende.\nTextvorlage ist von Hans Christian Andersen und durch die Art der Interpretation ein doppelter Andersen geworden – Andersen hoch 2. \nSpiel: Henrik Rosenquist Andersen \nhttp://andersenskoffertheater.com/stuecke/die-nachtigall/ \n______ \n  \nWenn Sie gerne für Ihre Gruppe (Kita\, Schule usw.) Plätze reservieren möchten\, nutzen Sie bitte nicht das von Pretix vorgefertigte Ticket-Programm\, sondern wenden Sie sich direkt an uns: \nKontakt@theater-grashuepfer.de \n030/53 69 51 50 \n 
URL:https://theater-treptower-park.de/termin/die-nachtigall/2024-08-25/
LOCATION:Figurentheater Grashüpfer\, Puschkinallee 16 a\, Berlin\, Berlin\, 12435\, Deutschland
END:VEVENT
BEGIN:VEVENT
DTSTART;TZID=Europe/Berlin:20240824T110000
DTEND;TZID=Europe/Berlin:20240824T114500
DTSTAMP:20260421T183253
CREATED:20240516T111637Z
LAST-MODIFIED:20240516T115117Z
UID:7547-1724497200-1724499900@theater-treptower-park.de
SUMMARY:Die Nachtigall
DESCRIPTION:Die Kinder werden nach China\, in das Schloss eines chinesischen Kaisers eingeladen.\nEs ist die poetische Geschichte „vom Schönen im Einfachen“\, die musikalisch und märchenhaft erzählt wird.\nNach circa 45 Minuten findet die Geschichte ihr gutes Ende.\nTextvorlage ist von Hans Christian Andersen und durch die Art der Interpretation ein doppelter Andersen geworden – Andersen hoch 2. \nSpiel: Henrik Rosenquist Andersen \nhttp://andersenskoffertheater.com/stuecke/die-nachtigall/ \n______ \n  \nWenn Sie gerne für Ihre Gruppe (Kita\, Schule usw.) Plätze reservieren möchten\, nutzen Sie bitte nicht das von Pretix vorgefertigte Ticket-Programm\, sondern wenden Sie sich direkt an uns: \nKontakt@theater-grashuepfer.de \n030/53 69 51 50 \n 
URL:https://theater-treptower-park.de/termin/die-nachtigall/2024-08-24/
LOCATION:Figurentheater Grashüpfer\, Puschkinallee 16 a\, Berlin\, Berlin\, 12435\, Deutschland
END:VEVENT
BEGIN:VEVENT
DTSTART;TZID=Europe/Berlin:20240822T100000
DTEND;TZID=Europe/Berlin:20240822T104500
DTSTAMP:20260421T183253
CREATED:20240516T111637Z
LAST-MODIFIED:20240516T115116Z
UID:7541-1724320800-1724323500@theater-treptower-park.de
SUMMARY:Die Nachtigall
DESCRIPTION:Die Kinder werden nach China\, in das Schloss eines chinesischen Kaisers eingeladen.\nEs ist die poetische Geschichte „vom Schönen im Einfachen“\, die musikalisch und märchenhaft erzählt wird.\nNach circa 45 Minuten findet die Geschichte ihr gutes Ende.\nTextvorlage ist von Hans Christian Andersen und durch die Art der Interpretation ein doppelter Andersen geworden – Andersen hoch 2. \nSpiel: Henrik Rosenquist Andersen \nhttp://andersenskoffertheater.com/stuecke/die-nachtigall/ \n______ \n  \nWenn Sie gerne für Ihre Gruppe (Kita\, Schule usw.) Plätze reservieren möchten\, nutzen Sie bitte nicht das von Pretix vorgefertigte Ticket-Programm\, sondern wenden Sie sich direkt an uns: \nKontakt@theater-grashuepfer.de \n030/53 69 51 50 \n 
URL:https://theater-treptower-park.de/termin/die-nachtigall/2024-08-22/
LOCATION:Figurentheater Grashüpfer\, Puschkinallee 16 a\, Berlin\, Berlin\, 12435\, Deutschland
END:VEVENT
END:VCALENDAR