BEGIN:VCALENDAR
VERSION:2.0
PRODID:-//Figurentheater Grashüpfer - ECPv6.15.12.2//NONSGML v1.0//EN
CALSCALE:GREGORIAN
METHOD:PUBLISH
X-WR-CALNAME:Figurentheater Grashüpfer
X-ORIGINAL-URL:https://theater-treptower-park.de
X-WR-CALDESC:Veranstaltungen für Figurentheater Grashüpfer
REFRESH-INTERVAL;VALUE=DURATION:PT1H
X-Robots-Tag:noindex
X-PUBLISHED-TTL:PT1H
BEGIN:VTIMEZONE
TZID:Europe/Berlin
BEGIN:DAYLIGHT
TZOFFSETFROM:+0100
TZOFFSETTO:+0200
TZNAME:CEST
DTSTART:20220327T010000
END:DAYLIGHT
BEGIN:STANDARD
TZOFFSETFROM:+0200
TZOFFSETTO:+0100
TZNAME:CET
DTSTART:20221030T010000
END:STANDARD
BEGIN:DAYLIGHT
TZOFFSETFROM:+0100
TZOFFSETTO:+0200
TZNAME:CEST
DTSTART:20230326T010000
END:DAYLIGHT
BEGIN:STANDARD
TZOFFSETFROM:+0200
TZOFFSETTO:+0100
TZNAME:CET
DTSTART:20231029T010000
END:STANDARD
BEGIN:DAYLIGHT
TZOFFSETFROM:+0100
TZOFFSETTO:+0200
TZNAME:CEST
DTSTART:20240331T010000
END:DAYLIGHT
BEGIN:STANDARD
TZOFFSETFROM:+0200
TZOFFSETTO:+0100
TZNAME:CET
DTSTART:20241027T010000
END:STANDARD
END:VTIMEZONE
BEGIN:VEVENT
DTSTART;TZID=Europe/Berlin:20230923T160000
DTEND;TZID=Europe/Berlin:20230923T164500
DTSTAMP:20260424T031853
CREATED:20230607T155837Z
LAST-MODIFIED:20231023T093045Z
UID:5905-1695484800-1695487500@theater-treptower-park.de
SUMMARY:Die Werkstatt der Schmetterlinge
DESCRIPTION:Puppenspiel nach dem gleichnamigen Kinderbuch von Gioconda Belli \nRodolfo ist einer von vielen „Gestaltern Aller Dinge“\, deren Aufgabe es ist\, sich jedes Lebewesen\, jedes Ding auf der Erde mit größter Weisheit auszumalen und zu verwirklichen\, als die Erde noch komplett leer und grau war. Doch Rodolfos Traum ist es\, ein Wesen zu erschaffen\, dass wie ein Vogel und gleichzeitig wie eine Blume sein soll. Doch als Rodolfo und seine Freunde zur Arbeit in der nicht allzu beliebten Insektenwerkstatt eingeteilt werden\, erkennt er seine Chance. Der bisher größte Erfolg der Erfinder in der Insektenwerkstatt waren Spinnen – doch dies sollte sich von nun an ändern. Mit tausenden von Entwürfen und stundenlangen Naturstudien erspinnt sich Rodolfo sein neues Geschöpf.\nEin Geschöpf\, dass er „Schmetterling“ nennen will. \nDauer: 45 Minuten \nSpiel: Stefan Spitzer \nRegie: Inga Schmidt \nwww.artisanen.com \n_______________ \n  \nWenn Sie gerne für Ihre Gruppe (Kita\, Schule usw.) Plätze reservieren möchten\, nutzen Sie bitte nicht das von Pretix vorgefertigte Ticket-Programm\, sondern wenden Sie sich direkt an uns: \nKontakt@theater-grashuepfer.de \n030/53 69 51 50
URL:https://theater-treptower-park.de/termin/die-werkstatt-der-schmetterlinge/2023-09-23/
LOCATION:Figurentheater Grashüpfer\, Puschkinallee 16 a\, Berlin\, Berlin\, 12435\, Deutschland
ATTACH;FMTTYPE=image/jpeg:https://theater-treptower-park.de/wp-content/uploads/2023/06/Die-Werkstatt-der-Schmetterlinge.jpg
END:VEVENT
END:VCALENDAR