BEGIN:VCALENDAR
VERSION:2.0
PRODID:-//Figurentheater Grashüpfer - ECPv6.15.12.2//NONSGML v1.0//EN
CALSCALE:GREGORIAN
METHOD:PUBLISH
X-WR-CALNAME:Figurentheater Grashüpfer
X-ORIGINAL-URL:https://theater-treptower-park.de
X-WR-CALDESC:Veranstaltungen für Figurentheater Grashüpfer
REFRESH-INTERVAL;VALUE=DURATION:PT1H
X-Robots-Tag:noindex
X-PUBLISHED-TTL:PT1H
BEGIN:VTIMEZONE
TZID:Europe/Berlin
BEGIN:DAYLIGHT
TZOFFSETFROM:+0100
TZOFFSETTO:+0200
TZNAME:CEST
DTSTART:20220327T010000
END:DAYLIGHT
BEGIN:STANDARD
TZOFFSETFROM:+0200
TZOFFSETTO:+0100
TZNAME:CET
DTSTART:20221030T010000
END:STANDARD
BEGIN:DAYLIGHT
TZOFFSETFROM:+0100
TZOFFSETTO:+0200
TZNAME:CEST
DTSTART:20230326T010000
END:DAYLIGHT
BEGIN:STANDARD
TZOFFSETFROM:+0200
TZOFFSETTO:+0100
TZNAME:CET
DTSTART:20231029T010000
END:STANDARD
BEGIN:DAYLIGHT
TZOFFSETFROM:+0100
TZOFFSETTO:+0200
TZNAME:CEST
DTSTART:20240331T010000
END:DAYLIGHT
BEGIN:STANDARD
TZOFFSETFROM:+0200
TZOFFSETTO:+0100
TZNAME:CET
DTSTART:20241027T010000
END:STANDARD
END:VTIMEZONE
BEGIN:VEVENT
DTSTART;TZID=Europe/Berlin:20230114T160000
DTEND;TZID=Europe/Berlin:20230114T164500
DTSTAMP:20260425T144621
CREATED:20221119T123733Z
LAST-MODIFIED:20221119T211533Z
UID:4688-1673712000-1673714700@theater-treptower-park.de
SUMMARY:Die Zeitdiebe // Nicole Gospodarek // ab 4
DESCRIPTION:Jeder kennt das: Da glaubt man\, noch richtig viel Zeit zu haben – und dann ist die Zeit plötzlich weg!\nWie das sein kann?\nNa ganz klar: Die Zeitdiebe haben zugeschlagen!\nNur wie kriegen die das eigentlich hin\, die Zeit zu klauen\, ohne dass man es mitbekommt?\nTiffy legt sich zusammen mit ihrer Katze auf die Lauer\, um die Zeitdiebe zu stellen.\nMit detektivischem Gespür entdeckt sie die Macher der Zeit und gerät in eine abenteuerliche Verfolgungsjagd. \nEin Stück über die Geheimnisse der Zeit und die Suche nach dem geteilten Augenblick. \nFür Kinder ab 4 Jahren\nDauer: ca. 45 min \nRegie: Kai Schubert\nSpiel: Nicole Gospodarek\nBühne/ Ausstattung: Kathrin Henneberger/ Michael Rahn\nMusik: S. T. Unterberg\nIllustration: Mirko Rathke\nFigurenbau: Maarit Kreuzinger\nMaske: Maya Giger \nUnterstützt mit Mitteln des Bezirkskulturfonds und Mitteln der Projektförderung des Bezirks Friedrichshain-Kreuzberg \nNicole Gospodarek \n_________ \nWenn Sie gerne für Ihre Gruppe (Kita\, Schule usw.) Plätze reservieren möchten\, nutzen Sie bitte nicht das von Pretix vorgefertigte Ticket-Programm\, sondern wenden Sie sich direkt an uns: \nKontakt@theater-grashuepfer.de \n030/53 69 51 50
URL:https://theater-treptower-park.de/termin/die-zeitdiebe-nicole-gospodarek-ab-4-2/2023-01-14/
LOCATION:Figurentheater Grashüpfer\, Puschkinallee 16 a\, Berlin\, Berlin\, 12435\, Deutschland
END:VEVENT
END:VCALENDAR