BEGIN:VCALENDAR
VERSION:2.0
PRODID:-//Figurentheater Grashüpfer - ECPv6.15.12.2//NONSGML v1.0//EN
CALSCALE:GREGORIAN
METHOD:PUBLISH
X-ORIGINAL-URL:https://theater-treptower-park.de
X-WR-CALDESC:Veranstaltungen für Figurentheater Grashüpfer
REFRESH-INTERVAL;VALUE=DURATION:PT1H
X-Robots-Tag:noindex
X-PUBLISHED-TTL:PT1H
BEGIN:VTIMEZONE
TZID:Europe/Berlin
BEGIN:DAYLIGHT
TZOFFSETFROM:+0100
TZOFFSETTO:+0200
TZNAME:CEST
DTSTART:20230326T010000
END:DAYLIGHT
BEGIN:STANDARD
TZOFFSETFROM:+0200
TZOFFSETTO:+0100
TZNAME:CET
DTSTART:20231029T010000
END:STANDARD
BEGIN:DAYLIGHT
TZOFFSETFROM:+0100
TZOFFSETTO:+0200
TZNAME:CEST
DTSTART:20240331T010000
END:DAYLIGHT
BEGIN:STANDARD
TZOFFSETFROM:+0200
TZOFFSETTO:+0100
TZNAME:CET
DTSTART:20241027T010000
END:STANDARD
BEGIN:DAYLIGHT
TZOFFSETFROM:+0100
TZOFFSETTO:+0200
TZNAME:CEST
DTSTART:20250330T010000
END:DAYLIGHT
BEGIN:STANDARD
TZOFFSETFROM:+0200
TZOFFSETTO:+0100
TZNAME:CET
DTSTART:20251026T010000
END:STANDARD
END:VTIMEZONE
BEGIN:VEVENT
DTSTART;TZID=Europe/Berlin:20240915T110000
DTEND;TZID=Europe/Berlin:20240915T113500
DTSTAMP:20260425T194804
CREATED:20240516T123243Z
LAST-MODIFIED:20240516T123243Z
UID:7624-1726398000-1726400100@theater-treptower-park.de
SUMMARY:Dornröschen
DESCRIPTION:Ein rasantes Erzähltheater mit einer Hand voll Puppen und einer Schauspielerin \nMenschen\, die sich lieb haben\, streiten sich auch manchmal. Das wissen auch der König und die Königin\, die eigentlich alles haben: ein großes Schloss\, eine goldene Kutsche\, einen Hubschrauberlandeplatz\, und noch vieles mehr… \nAber eines hatten sie nicht\, und das wünschen sie sich am allermeisten: ein Kind! Eines Tages geht ihr größter Wunsch in Erfüllung… \nSpiel\nNicole Weißbrodt \nRegieberatung\nJuliane Solvang \nhttp://nicole-weissbrodt.de/portfolio/dornroeschen/ \n______ \n  \nWenn Sie gerne für Ihre Gruppe (Kita\, Schule usw.) Plätze reservieren möchten\, nutzen Sie bitte nicht das von Pretix vorgefertigte Ticket-Programm\, sondern wenden Sie sich direkt an uns: \nKontakt@theater-grashuepfer.de \n030/53 69 51 50
URL:https://theater-treptower-park.de/termin/dornroeschen/2024-09-15/
LOCATION:Figurentheater Grashüpfer\, Puschkinallee 16 a\, Berlin\, Berlin\, 12435\, Deutschland
ATTACH;FMTTYPE=image/jpeg:https://theater-treptower-park.de/wp-content/uploads/2024/05/DSC02349.jpg
END:VEVENT
BEGIN:VEVENT
DTSTART;TZID=Europe/Berlin:20240914T150000
DTEND;TZID=Europe/Berlin:20240914T153500
DTSTAMP:20260425T194804
CREATED:20240516T123243Z
LAST-MODIFIED:20240523T105034Z
UID:7566-1726326000-1726328100@theater-treptower-park.de
SUMMARY:Dornröschen
DESCRIPTION:Ein rasantes Erzähltheater mit einer Hand voll Puppen und einer Schauspielerin \nMenschen\, die sich lieb haben\, streiten sich auch manchmal. Das wissen auch der König und die Königin\, die eigentlich alles haben: ein großes Schloss\, eine goldene Kutsche\, einen Hubschrauberlandeplatz\, und noch vieles mehr… \nAber eines hatten sie nicht\, und das wünschen sie sich am allermeisten: ein Kind! Eines Tages geht ihr größter Wunsch in Erfüllung… \nSpiel\nNicole Weißbrodt \nRegieberatung\nJuliane Solvang \nhttp://nicole-weissbrodt.de/portfolio/dornroeschen/ \n______ \n  \nWenn Sie gerne für Ihre Gruppe (Kita\, Schule usw.) Plätze reservieren möchten\, nutzen Sie bitte nicht das von Pretix vorgefertigte Ticket-Programm\, sondern wenden Sie sich direkt an uns: \nKontakt@theater-grashuepfer.de \n030/53 69 51 50
URL:https://theater-treptower-park.de/termin/dornroeschen/2024-09-14/
LOCATION:Figurentheater Grashüpfer\, Puschkinallee 16 a\, Berlin\, Berlin\, 12435\, Deutschland
ATTACH;FMTTYPE=image/jpeg:https://theater-treptower-park.de/wp-content/uploads/2024/05/DSC02349.jpg
END:VEVENT
END:VCALENDAR