BEGIN:VCALENDAR
VERSION:2.0
PRODID:-//Figurentheater Grashüpfer - ECPv6.15.12.2//NONSGML v1.0//EN
CALSCALE:GREGORIAN
METHOD:PUBLISH
X-WR-CALNAME:Figurentheater Grashüpfer
X-ORIGINAL-URL:https://theater-treptower-park.de
X-WR-CALDESC:Veranstaltungen für Figurentheater Grashüpfer
REFRESH-INTERVAL;VALUE=DURATION:PT1H
X-Robots-Tag:noindex
X-PUBLISHED-TTL:PT1H
BEGIN:VTIMEZONE
TZID:Europe/Berlin
BEGIN:DAYLIGHT
TZOFFSETFROM:+0100
TZOFFSETTO:+0200
TZNAME:CEST
DTSTART:20230326T010000
END:DAYLIGHT
BEGIN:STANDARD
TZOFFSETFROM:+0200
TZOFFSETTO:+0100
TZNAME:CET
DTSTART:20231029T010000
END:STANDARD
BEGIN:DAYLIGHT
TZOFFSETFROM:+0100
TZOFFSETTO:+0200
TZNAME:CEST
DTSTART:20240331T010000
END:DAYLIGHT
BEGIN:STANDARD
TZOFFSETFROM:+0200
TZOFFSETTO:+0100
TZNAME:CET
DTSTART:20241027T010000
END:STANDARD
BEGIN:DAYLIGHT
TZOFFSETFROM:+0100
TZOFFSETTO:+0200
TZNAME:CEST
DTSTART:20250330T010000
END:DAYLIGHT
BEGIN:STANDARD
TZOFFSETFROM:+0200
TZOFFSETTO:+0100
TZNAME:CET
DTSTART:20251026T010000
END:STANDARD
END:VTIMEZONE
BEGIN:VEVENT
DTSTART;TZID=Europe/Berlin:20240606T100000
DTEND;TZID=Europe/Berlin:20240606T104500
DTSTAMP:20260425T144156
CREATED:20240111T083626Z
LAST-MODIFIED:20240515T170222Z
UID:7189-1717668000-1717670700@theater-treptower-park.de
SUMMARY:Ei-Pad\, Affe und Giraffe
DESCRIPTION:[vc_row][vc_column][vc_column_text]“Das vergessene Ei“ \nTheater mit Rätseln\, Live Zeichnen\, Masken- und Figurenspiel rund um ein Ei \nWas macht nur dieses riesige Ei auf der Bühne?\nAuf der großen Leinwand entstehen farbige Bilder – live im Einklang mit der Musik. Sie verändern und erneuern sich ständig und laden zum Raten ein. Was kommt wohl als Nächstes? Vögel und Schmetterlinge erscheinen; Schildkröten und Fische… Der Affe interessiert sich auch für das Ei. Noch wissen wir nicht\, was sich darin verbirgt… Behutsam\, humorvoll und verspielt berührt die Inszenierung das Thema Umwelt und gibt nicht nur Kindern wertvolle Anregungen für die eigene Kreativität. \nDauer: 45 Minuten\nSpiel: Michaela Bartoňová und Ralf Lücke \nTheater Rafael Zwischenraum \nTineola \n  \n______ \nInformationen für Gruppen: \nWenn Sie gerne für Ihre Gruppe (Kita\, Schule usw.) Plätze reservieren möchten\, nutzen Sie bitte nicht das von Pretix vorgefertigte Ticket-Programm\, sondern wenden Sie sich direkt an uns: \nKontakt@theater-grashuepfer.de \n030/53 69 51 50[/vc_column_text][/vc_column][/vc_row][vc_row][vc_column][vc_gallery interval=“3″ images=“7481\,7491\,7492\,7480\,7482\,7487\,7489\,7484″ img_size=“large“][/vc_column][/vc_row]
URL:https://theater-treptower-park.de/termin/ei-pad-affe-und-giraffe/2024-06-06/
LOCATION:Figurentheater Grashüpfer\, Puschkinallee 16 a\, Berlin\, Berlin\, 12435\, Deutschland
END:VEVENT
BEGIN:VEVENT
DTSTART;TZID=Europe/Berlin:20240605T100000
DTEND;TZID=Europe/Berlin:20240605T104500
DTSTAMP:20260425T144156
CREATED:20240111T083626Z
LAST-MODIFIED:20240515T170222Z
UID:7188-1717581600-1717584300@theater-treptower-park.de
SUMMARY:Ei-Pad\, Affe und Giraffe
DESCRIPTION:[vc_row][vc_column][vc_column_text]“Das vergessene Ei“ \nTheater mit Rätseln\, Live Zeichnen\, Masken- und Figurenspiel rund um ein Ei \nWas macht nur dieses riesige Ei auf der Bühne?\nAuf der großen Leinwand entstehen farbige Bilder – live im Einklang mit der Musik. Sie verändern und erneuern sich ständig und laden zum Raten ein. Was kommt wohl als Nächstes? Vögel und Schmetterlinge erscheinen; Schildkröten und Fische… Der Affe interessiert sich auch für das Ei. Noch wissen wir nicht\, was sich darin verbirgt… Behutsam\, humorvoll und verspielt berührt die Inszenierung das Thema Umwelt und gibt nicht nur Kindern wertvolle Anregungen für die eigene Kreativität. \nDauer: 45 Minuten\nSpiel: Michaela Bartoňová und Ralf Lücke \nTheater Rafael Zwischenraum \nTineola \n  \n______ \nInformationen für Gruppen: \nWenn Sie gerne für Ihre Gruppe (Kita\, Schule usw.) Plätze reservieren möchten\, nutzen Sie bitte nicht das von Pretix vorgefertigte Ticket-Programm\, sondern wenden Sie sich direkt an uns: \nKontakt@theater-grashuepfer.de \n030/53 69 51 50[/vc_column_text][/vc_column][/vc_row][vc_row][vc_column][vc_gallery interval=“3″ images=“7481\,7491\,7492\,7480\,7482\,7487\,7489\,7484″ img_size=“large“][/vc_column][/vc_row]
URL:https://theater-treptower-park.de/termin/ei-pad-affe-und-giraffe/2024-06-05/
LOCATION:Figurentheater Grashüpfer\, Puschkinallee 16 a\, Berlin\, Berlin\, 12435\, Deutschland
END:VEVENT
BEGIN:VEVENT
DTSTART;TZID=Europe/Berlin:20240602T110000
DTEND;TZID=Europe/Berlin:20240602T114500
DTSTAMP:20260425T144156
CREATED:20240111T083626Z
LAST-MODIFIED:20240515T170220Z
UID:7186-1717326000-1717328700@theater-treptower-park.de
SUMMARY:Ei-Pad\, Affe und Giraffe
DESCRIPTION:[vc_row][vc_column][vc_column_text]“Das vergessene Ei“ \nTheater mit Rätseln\, Live Zeichnen\, Masken- und Figurenspiel rund um ein Ei \nWas macht nur dieses riesige Ei auf der Bühne?\nAuf der großen Leinwand entstehen farbige Bilder – live im Einklang mit der Musik. Sie verändern und erneuern sich ständig und laden zum Raten ein. Was kommt wohl als Nächstes? Vögel und Schmetterlinge erscheinen; Schildkröten und Fische… Der Affe interessiert sich auch für das Ei. Noch wissen wir nicht\, was sich darin verbirgt… Behutsam\, humorvoll und verspielt berührt die Inszenierung das Thema Umwelt und gibt nicht nur Kindern wertvolle Anregungen für die eigene Kreativität. \nDauer: 45 Minuten\nSpiel: Michaela Bartoňová und Ralf Lücke \nTheater Rafael Zwischenraum \nTineola \n  \n______ \nInformationen für Gruppen: \nWenn Sie gerne für Ihre Gruppe (Kita\, Schule usw.) Plätze reservieren möchten\, nutzen Sie bitte nicht das von Pretix vorgefertigte Ticket-Programm\, sondern wenden Sie sich direkt an uns: \nKontakt@theater-grashuepfer.de \n030/53 69 51 50[/vc_column_text][/vc_column][/vc_row][vc_row][vc_column][vc_gallery interval=“3″ images=“7481\,7491\,7492\,7480\,7482\,7487\,7489\,7484″ img_size=“large“][/vc_column][/vc_row]
URL:https://theater-treptower-park.de/termin/ei-pad-affe-und-giraffe/2024-06-02/
LOCATION:Figurentheater Grashüpfer\, Puschkinallee 16 a\, Berlin\, Berlin\, 12435\, Deutschland
END:VEVENT
BEGIN:VEVENT
DTSTART;TZID=Europe/Berlin:20240601T150000
DTEND;TZID=Europe/Berlin:20240601T154500
DTSTAMP:20260425T144156
CREATED:20240111T083626Z
LAST-MODIFIED:20240515T170220Z
UID:7030-1717254000-1717256700@theater-treptower-park.de
SUMMARY:Ei-Pad\, Affe und Giraffe
DESCRIPTION:[vc_row][vc_column][vc_column_text]“Das vergessene Ei“ \nTheater mit Rätseln\, Live Zeichnen\, Masken- und Figurenspiel rund um ein Ei \nWas macht nur dieses riesige Ei auf der Bühne?\nAuf der großen Leinwand entstehen farbige Bilder – live im Einklang mit der Musik. Sie verändern und erneuern sich ständig und laden zum Raten ein. Was kommt wohl als Nächstes? Vögel und Schmetterlinge erscheinen; Schildkröten und Fische… Der Affe interessiert sich auch für das Ei. Noch wissen wir nicht\, was sich darin verbirgt… Behutsam\, humorvoll und verspielt berührt die Inszenierung das Thema Umwelt und gibt nicht nur Kindern wertvolle Anregungen für die eigene Kreativität. \nDauer: 45 Minuten\nSpiel: Michaela Bartoňová und Ralf Lücke \nTheater Rafael Zwischenraum \nTineola \n  \n______ \nInformationen für Gruppen: \nWenn Sie gerne für Ihre Gruppe (Kita\, Schule usw.) Plätze reservieren möchten\, nutzen Sie bitte nicht das von Pretix vorgefertigte Ticket-Programm\, sondern wenden Sie sich direkt an uns: \nKontakt@theater-grashuepfer.de \n030/53 69 51 50[/vc_column_text][/vc_column][/vc_row][vc_row][vc_column][vc_gallery interval=“3″ images=“7481\,7491\,7492\,7480\,7482\,7487\,7489\,7484″ img_size=“large“][/vc_column][/vc_row]
URL:https://theater-treptower-park.de/termin/ei-pad-affe-und-giraffe/
LOCATION:Figurentheater Grashüpfer\, Puschkinallee 16 a\, Berlin\, Berlin\, 12435\, Deutschland
END:VEVENT
END:VCALENDAR