BEGIN:VCALENDAR
VERSION:2.0
PRODID:-//Figurentheater Grashüpfer - ECPv6.15.12.2//NONSGML v1.0//EN
CALSCALE:GREGORIAN
METHOD:PUBLISH
X-WR-CALNAME:Figurentheater Grashüpfer
X-ORIGINAL-URL:https://theater-treptower-park.de
X-WR-CALDESC:Veranstaltungen für Figurentheater Grashüpfer
REFRESH-INTERVAL;VALUE=DURATION:PT1H
X-Robots-Tag:noindex
X-PUBLISHED-TTL:PT1H
BEGIN:VTIMEZONE
TZID:Europe/Berlin
BEGIN:DAYLIGHT
TZOFFSETFROM:+0100
TZOFFSETTO:+0200
TZNAME:CEST
DTSTART:20220327T010000
END:DAYLIGHT
BEGIN:STANDARD
TZOFFSETFROM:+0200
TZOFFSETTO:+0100
TZNAME:CET
DTSTART:20221030T010000
END:STANDARD
BEGIN:DAYLIGHT
TZOFFSETFROM:+0100
TZOFFSETTO:+0200
TZNAME:CEST
DTSTART:20230326T010000
END:DAYLIGHT
BEGIN:STANDARD
TZOFFSETFROM:+0200
TZOFFSETTO:+0100
TZNAME:CET
DTSTART:20231029T010000
END:STANDARD
BEGIN:DAYLIGHT
TZOFFSETFROM:+0100
TZOFFSETTO:+0200
TZNAME:CEST
DTSTART:20240331T010000
END:DAYLIGHT
BEGIN:STANDARD
TZOFFSETFROM:+0200
TZOFFSETTO:+0100
TZNAME:CET
DTSTART:20241027T010000
END:STANDARD
END:VTIMEZONE
BEGIN:VEVENT
DTSTART;TZID=Europe/Berlin:20230923T130000
DTEND;TZID=Europe/Berlin:20230923T140000
DTSTAMP:20260424T041438
CREATED:20230421T105918Z
LAST-MODIFIED:20230910T122105Z
UID:5665-1695474000-1695477600@theater-treptower-park.de
SUMMARY:Familiennachmittag: Puppenbau und Puppenspiel
DESCRIPTION:*** Im Rahmen des Figurentheater Festivals WÜNSCH DIR WAS ***\n \nMit welchem Zauber aus Materialen des Alltags und ein wenig Mut auf einer kleinen Bühne unversehens „Leben“ entsteht\, dass lässt sich beim Familiennachmittag erkunden. \nAus Stoff\, Holz\, Kleber\, Faden und Papier basteln Groß und Klein Stab- und Fingerpuppen. \nSeien es Tiere\, Teufel\, Feen\, Sockenmonster oder Schnapperschönheiten\, der Fantasie sind dabei keine Grenzen gesetzt. \nDer Eintritt ist frei. \nFür die Bastelmaterialen wird ein Unkostenpreis erhoben. \n__________ \nKontakt@theater-grashuepfer.de \n030/53 69 51 50
URL:https://theater-treptower-park.de/termin/familiennachmittag-puppenbau-und-puppenspiel/2023-09-23/
LOCATION:Figurentheater Grashüpfer\, Puschkinallee 16 a\, Berlin\, Berlin\, 12435\, Deutschland
END:VEVENT
END:VCALENDAR