BEGIN:VCALENDAR
VERSION:2.0
PRODID:-//Figurentheater Grashüpfer - ECPv6.15.12.2//NONSGML v1.0//EN
CALSCALE:GREGORIAN
METHOD:PUBLISH
X-ORIGINAL-URL:https://theater-treptower-park.de
X-WR-CALDESC:Veranstaltungen für Figurentheater Grashüpfer
REFRESH-INTERVAL;VALUE=DURATION:PT1H
X-Robots-Tag:noindex
X-PUBLISHED-TTL:PT1H
BEGIN:VTIMEZONE
TZID:Europe/Berlin
BEGIN:DAYLIGHT
TZOFFSETFROM:+0100
TZOFFSETTO:+0200
TZNAME:CEST
DTSTART:20240331T010000
END:DAYLIGHT
BEGIN:STANDARD
TZOFFSETFROM:+0200
TZOFFSETTO:+0100
TZNAME:CET
DTSTART:20241027T010000
END:STANDARD
BEGIN:DAYLIGHT
TZOFFSETFROM:+0100
TZOFFSETTO:+0200
TZNAME:CEST
DTSTART:20250330T010000
END:DAYLIGHT
BEGIN:STANDARD
TZOFFSETFROM:+0200
TZOFFSETTO:+0100
TZNAME:CET
DTSTART:20251026T010000
END:STANDARD
BEGIN:DAYLIGHT
TZOFFSETFROM:+0100
TZOFFSETTO:+0200
TZNAME:CEST
DTSTART:20260329T010000
END:DAYLIGHT
BEGIN:STANDARD
TZOFFSETFROM:+0200
TZOFFSETTO:+0100
TZNAME:CET
DTSTART:20261025T010000
END:STANDARD
END:VTIMEZONE
BEGIN:VEVENT
DTSTART;TZID=Europe/Berlin:20250520T100000
DTEND;TZID=Europe/Berlin:20250520T104500
DTSTAMP:20260425T144749
CREATED:20250116T113750Z
LAST-MODIFIED:20250116T113750Z
UID:9078-1747735200-1747737900@theater-treptower-park.de
SUMMARY:Froschkönig - abgeschminkt
DESCRIPTION:In dem Erzähltheater mit Putzeimer und Objekten vom Schminktisch für alle ab 4 Jahren wird aufgezeigt\, dass Prinzessin sein auch nicht immer ganz einfach ist. \nDen ganzen Tag muss man schön sein. Viel Arbeit ist das\, und manchmal auch ganz schön langweilig. \nWenn dann auch noch das allerliebste Spielzeug verschwindet\, was soll man da machen? \nUnd wenn plötzlich ein Frosch erscheint\, der das Spielzeug zurückbringen kann? \nDa kann es passieren\, dass man etwas verspricht – so ganz aus Versehen. \nUnd was würden denn die Kinder im Publikum machen mit so einem Frosch? \n  \nSpiel: Nicole Weißbrodt \n  \n_____________ \n  \nWenn Sie gerne für Ihre Gruppe (Kita\, Schule usw.) Plätze reservieren möchten\, nutzen Sie bitte nicht das von Pretix vorgefertigte Ticket-Programm\, sondern wenden Sie sich direkt an uns: \nKontakt@theater-grashuepfer.de \n030/53 69 51 50
URL:https://theater-treptower-park.de/termin/froschkoenig-abgeschminkt-2/2025-05-20/
LOCATION:Figurentheater Grashüpfer\, Puschkinallee 16 a\, Berlin\, Berlin\, 12435\, Deutschland
CATEGORIES:Kinderprogramm,Puppentheater
ATTACH;FMTTYPE=image/jpeg:https://theater-treptower-park.de/wp-content/uploads/2024/07/nicole_weissbrodt_froschkoenig-scaled-1.jpg
END:VEVENT
BEGIN:VEVENT
DTSTART;TZID=Europe/Berlin:20250518T110000
DTEND;TZID=Europe/Berlin:20250518T114500
DTSTAMP:20260425T144749
CREATED:20250116T113750Z
LAST-MODIFIED:20250116T113750Z
UID:9077-1747566000-1747568700@theater-treptower-park.de
SUMMARY:Froschkönig - abgeschminkt
DESCRIPTION:In dem Erzähltheater mit Putzeimer und Objekten vom Schminktisch für alle ab 4 Jahren wird aufgezeigt\, dass Prinzessin sein auch nicht immer ganz einfach ist. \nDen ganzen Tag muss man schön sein. Viel Arbeit ist das\, und manchmal auch ganz schön langweilig. \nWenn dann auch noch das allerliebste Spielzeug verschwindet\, was soll man da machen? \nUnd wenn plötzlich ein Frosch erscheint\, der das Spielzeug zurückbringen kann? \nDa kann es passieren\, dass man etwas verspricht – so ganz aus Versehen. \nUnd was würden denn die Kinder im Publikum machen mit so einem Frosch? \n  \nSpiel: Nicole Weißbrodt \n  \n_____________ \n  \nWenn Sie gerne für Ihre Gruppe (Kita\, Schule usw.) Plätze reservieren möchten\, nutzen Sie bitte nicht das von Pretix vorgefertigte Ticket-Programm\, sondern wenden Sie sich direkt an uns: \nKontakt@theater-grashuepfer.de \n030/53 69 51 50
URL:https://theater-treptower-park.de/termin/froschkoenig-abgeschminkt-2/2025-05-18/
LOCATION:Figurentheater Grashüpfer\, Puschkinallee 16 a\, Berlin\, Berlin\, 12435\, Deutschland
CATEGORIES:Kinderprogramm,Puppentheater
ATTACH;FMTTYPE=image/jpeg:https://theater-treptower-park.de/wp-content/uploads/2024/07/nicole_weissbrodt_froschkoenig-scaled-1.jpg
END:VEVENT
BEGIN:VEVENT
DTSTART;TZID=Europe/Berlin:20250517T150000
DTEND;TZID=Europe/Berlin:20250517T154500
DTSTAMP:20260425T144749
CREATED:20250116T113750Z
LAST-MODIFIED:20250116T113910Z
UID:9075-1747494000-1747496700@theater-treptower-park.de
SUMMARY:Froschkönig - abgeschminkt
DESCRIPTION:In dem Erzähltheater mit Putzeimer und Objekten vom Schminktisch für alle ab 4 Jahren wird aufgezeigt\, dass Prinzessin sein auch nicht immer ganz einfach ist. \nDen ganzen Tag muss man schön sein. Viel Arbeit ist das\, und manchmal auch ganz schön langweilig. \nWenn dann auch noch das allerliebste Spielzeug verschwindet\, was soll man da machen? \nUnd wenn plötzlich ein Frosch erscheint\, der das Spielzeug zurückbringen kann? \nDa kann es passieren\, dass man etwas verspricht – so ganz aus Versehen. \nUnd was würden denn die Kinder im Publikum machen mit so einem Frosch? \n  \nSpiel: Nicole Weißbrodt \n  \n_____________ \n  \nWenn Sie gerne für Ihre Gruppe (Kita\, Schule usw.) Plätze reservieren möchten\, nutzen Sie bitte nicht das von Pretix vorgefertigte Ticket-Programm\, sondern wenden Sie sich direkt an uns: \nKontakt@theater-grashuepfer.de \n030/53 69 51 50
URL:https://theater-treptower-park.de/termin/froschkoenig-abgeschminkt-2/2025-05-17/
LOCATION:Figurentheater Grashüpfer\, Puschkinallee 16 a\, Berlin\, Berlin\, 12435\, Deutschland
CATEGORIES:Kinderprogramm,Puppentheater
ATTACH;FMTTYPE=image/jpeg:https://theater-treptower-park.de/wp-content/uploads/2024/07/nicole_weissbrodt_froschkoenig-scaled-1.jpg
END:VEVENT
END:VCALENDAR