BEGIN:VCALENDAR
VERSION:2.0
PRODID:-//Figurentheater Grashüpfer - ECPv6.15.12.2//NONSGML v1.0//EN
CALSCALE:GREGORIAN
METHOD:PUBLISH
X-ORIGINAL-URL:https://theater-treptower-park.de
X-WR-CALDESC:Veranstaltungen für Figurentheater Grashüpfer
REFRESH-INTERVAL;VALUE=DURATION:PT1H
X-Robots-Tag:noindex
X-PUBLISHED-TTL:PT1H
BEGIN:VTIMEZONE
TZID:Europe/Berlin
BEGIN:DAYLIGHT
TZOFFSETFROM:+0100
TZOFFSETTO:+0200
TZNAME:CEST
DTSTART:20210328T010000
END:DAYLIGHT
BEGIN:STANDARD
TZOFFSETFROM:+0200
TZOFFSETTO:+0100
TZNAME:CET
DTSTART:20211031T010000
END:STANDARD
BEGIN:DAYLIGHT
TZOFFSETFROM:+0100
TZOFFSETTO:+0200
TZNAME:CEST
DTSTART:20220327T010000
END:DAYLIGHT
BEGIN:STANDARD
TZOFFSETFROM:+0200
TZOFFSETTO:+0100
TZNAME:CET
DTSTART:20221030T010000
END:STANDARD
BEGIN:DAYLIGHT
TZOFFSETFROM:+0100
TZOFFSETTO:+0200
TZNAME:CEST
DTSTART:20230326T010000
END:DAYLIGHT
BEGIN:STANDARD
TZOFFSETFROM:+0200
TZOFFSETTO:+0100
TZNAME:CET
DTSTART:20231029T010000
END:STANDARD
END:VTIMEZONE
BEGIN:VEVENT
DTSTART;TZID=Europe/Berlin:20220202T100000
DTEND;TZID=Europe/Berlin:20220202T104500
DTSTAMP:20260425T205014
CREATED:20211103T173521Z
LAST-MODIFIED:20220118T102900Z
UID:2918-1643796000-1643798700@theater-treptower-park.de
SUMMARY:Gruppenvorstellung: Clown PatschMo spielt: Rotkäppchen // Monika Parthier // ab 3
DESCRIPTION:Clownspiel mit Puppen nach dem Märchen der Brüder Grimm.\nEine Clownin spielt mit ihren Kuschelpuppen. Sie soll schlafen! Die Eltern sind weg\, aber Besuch ist da. Hurra!!! Jetzt können sie machen\, was sie wollen. Gemeinsam mit den Kindern begeben sie sich auf die Suche und segeln in die weite Welt. \nSpiel: Monika Parthier\nDauer: 45 Minuten \nwww.puppentheater-parthier.de \nBitte beachten: Gruppenvorstellungen sind Kita- und Schulgruppen vorbehalten.\nBei Interesse treten Sie bitte mit uns in Kontakt.
URL:https://theater-treptower-park.de/termin/gruppenvorstellung-clown-patschmo-spielt-rotkaeppchen-monika-parthier-ab-3-2022-02-02/2022-02-02/
LOCATION:Figurentheater Grashüpfer\, Puschkinallee 16 a\, Berlin\, Berlin\, 12435\, Deutschland
ATTACH;FMTTYPE=image/png:https://theater-treptower-park.de/wp-content/uploads/2021/11/VA_PatschmoRotkaeppchen.png
END:VEVENT
END:VCALENDAR