BEGIN:VCALENDAR
VERSION:2.0
PRODID:-//Figurentheater Grashüpfer - ECPv6.15.12.2//NONSGML v1.0//EN
CALSCALE:GREGORIAN
METHOD:PUBLISH
X-ORIGINAL-URL:https://theater-treptower-park.de
X-WR-CALDESC:Veranstaltungen für Figurentheater Grashüpfer
REFRESH-INTERVAL;VALUE=DURATION:PT1H
X-Robots-Tag:noindex
X-PUBLISHED-TTL:PT1H
BEGIN:VTIMEZONE
TZID:Europe/Berlin
BEGIN:DAYLIGHT
TZOFFSETFROM:+0100
TZOFFSETTO:+0200
TZNAME:CEST
DTSTART:20210328T010000
END:DAYLIGHT
BEGIN:STANDARD
TZOFFSETFROM:+0200
TZOFFSETTO:+0100
TZNAME:CET
DTSTART:20211031T010000
END:STANDARD
BEGIN:DAYLIGHT
TZOFFSETFROM:+0100
TZOFFSETTO:+0200
TZNAME:CEST
DTSTART:20220327T010000
END:DAYLIGHT
BEGIN:STANDARD
TZOFFSETFROM:+0200
TZOFFSETTO:+0100
TZNAME:CET
DTSTART:20221030T010000
END:STANDARD
BEGIN:DAYLIGHT
TZOFFSETFROM:+0100
TZOFFSETTO:+0200
TZNAME:CEST
DTSTART:20230326T010000
END:DAYLIGHT
BEGIN:STANDARD
TZOFFSETFROM:+0200
TZOFFSETTO:+0100
TZNAME:CET
DTSTART:20231029T010000
END:STANDARD
END:VTIMEZONE
BEGIN:VEVENT
DTSTART;TZID=Europe/Berlin:20220301T090000
DTEND;TZID=Europe/Berlin:20220301T094500
DTSTAMP:20260424T021507
CREATED:20211110T185703Z
LAST-MODIFIED:20211110T185703Z
UID:2992-1646125200-1646127900@theater-treptower-park.de
SUMMARY:Gruppenvorstellung: Der kleine Angsthase // Artisanen // ab 3
DESCRIPTION:Puppenspiel frei nach Elizabeth Shaw.\nDer kleine Angsthase fürchtet sich vor allem: Dunkelheit\, Hunden\, Gespenstern und großen Jungen. Doch plötzlich geschieht etwas Unerwartetes: Er überwindet seine Angst\, als der Fuchs den kleine Uli-Hasen holen will. \nSpiel: Inga Schmidt\nDauer: 45 Minuten \nwww.artisanen.com \nBitte beachten: Gruppenvorstellungen sind Kita- und Schulgruppen vorbehalten.\nBei Interesse treten Sie bitte mit uns in Kontakt.
URL:https://theater-treptower-park.de/termin/gruppenvorstellung-der-kleine-angsthase-artisanen-ab-3/2022-03-01/
LOCATION:Figurentheater Grashüpfer\, Puschkinallee 16 a\, Berlin\, Berlin\, 12435\, Deutschland
ATTACH;FMTTYPE=image/png:https://theater-treptower-park.de/wp-content/uploads/2021/11/VA_DerKleineAngsthase.png
END:VEVENT
END:VCALENDAR