BEGIN:VCALENDAR
VERSION:2.0
PRODID:-//Figurentheater Grashüpfer - ECPv6.15.12.2//NONSGML v1.0//EN
CALSCALE:GREGORIAN
METHOD:PUBLISH
X-ORIGINAL-URL:https://theater-treptower-park.de
X-WR-CALDESC:Veranstaltungen für Figurentheater Grashüpfer
REFRESH-INTERVAL;VALUE=DURATION:PT1H
X-Robots-Tag:noindex
X-PUBLISHED-TTL:PT1H
BEGIN:VTIMEZONE
TZID:Europe/Berlin
BEGIN:DAYLIGHT
TZOFFSETFROM:+0100
TZOFFSETTO:+0200
TZNAME:CEST
DTSTART:20210328T010000
END:DAYLIGHT
BEGIN:STANDARD
TZOFFSETFROM:+0200
TZOFFSETTO:+0100
TZNAME:CET
DTSTART:20211031T010000
END:STANDARD
BEGIN:DAYLIGHT
TZOFFSETFROM:+0100
TZOFFSETTO:+0200
TZNAME:CEST
DTSTART:20220327T010000
END:DAYLIGHT
BEGIN:STANDARD
TZOFFSETFROM:+0200
TZOFFSETTO:+0100
TZNAME:CET
DTSTART:20221030T010000
END:STANDARD
BEGIN:DAYLIGHT
TZOFFSETFROM:+0100
TZOFFSETTO:+0200
TZNAME:CEST
DTSTART:20230326T010000
END:DAYLIGHT
BEGIN:STANDARD
TZOFFSETFROM:+0200
TZOFFSETTO:+0100
TZNAME:CET
DTSTART:20231029T010000
END:STANDARD
END:VTIMEZONE
BEGIN:VEVENT
DTSTART;TZID=Europe/Berlin:20220326T160000
DTEND;TZID=Europe/Berlin:20220326T163000
DTSTAMP:20260423T164744
CREATED:20211111T154816Z
LAST-MODIFIED:20211111T154816Z
UID:3058-1648310400-1648312200@theater-treptower-park.de
SUMMARY:Heule Eule // FigurenKombinat // ab 2
DESCRIPTION:Figurentheaterstück fast ohne Sprache.\nMitten im Wald sitzt die kleine Heule Eule und heult und heult. Niemand weiß\, warum. Die Waldbewohner versuchen ihr Bestes\, das Eulenkind zu trösten. Werden sie es schaffen\, die kleine Eule zu beruhigen? \nSpiel: Helen Schumann\nDauer: 30 Minuten \nwww.figurenkombinat.net
URL:https://theater-treptower-park.de/termin/heule-eule-figurenkombinat-ab-2-3/2022-03-26/
LOCATION:Figurentheater Grashüpfer\, Puschkinallee 16 a\, Berlin\, Berlin\, 12435\, Deutschland
ATTACH;FMTTYPE=image/png:https://theater-treptower-park.de/wp-content/uploads/2021/11/VA_HeuleEule.png
END:VEVENT
END:VCALENDAR