BEGIN:VCALENDAR
VERSION:2.0
PRODID:-//Figurentheater Grashüpfer - ECPv6.15.12.2//NONSGML v1.0//EN
CALSCALE:GREGORIAN
METHOD:PUBLISH
X-WR-CALNAME:Figurentheater Grashüpfer
X-ORIGINAL-URL:https://theater-treptower-park.de
X-WR-CALDESC:Veranstaltungen für Figurentheater Grashüpfer
REFRESH-INTERVAL;VALUE=DURATION:PT1H
X-Robots-Tag:noindex
X-PUBLISHED-TTL:PT1H
BEGIN:VTIMEZONE
TZID:Europe/Berlin
BEGIN:DAYLIGHT
TZOFFSETFROM:+0100
TZOFFSETTO:+0200
TZNAME:CEST
DTSTART:20250330T010000
END:DAYLIGHT
BEGIN:STANDARD
TZOFFSETFROM:+0200
TZOFFSETTO:+0100
TZNAME:CET
DTSTART:20251026T010000
END:STANDARD
BEGIN:DAYLIGHT
TZOFFSETFROM:+0100
TZOFFSETTO:+0200
TZNAME:CEST
DTSTART:20260329T010000
END:DAYLIGHT
BEGIN:STANDARD
TZOFFSETFROM:+0200
TZOFFSETTO:+0100
TZNAME:CET
DTSTART:20261025T010000
END:STANDARD
BEGIN:DAYLIGHT
TZOFFSETFROM:+0100
TZOFFSETTO:+0200
TZNAME:CEST
DTSTART:20270328T010000
END:DAYLIGHT
BEGIN:STANDARD
TZOFFSETFROM:+0200
TZOFFSETTO:+0100
TZNAME:CET
DTSTART:20271031T010000
END:STANDARD
END:VTIMEZONE
BEGIN:VEVENT
DTSTART;TZID=Europe/Berlin:20260402T100000
DTEND;TZID=Europe/Berlin:20260402T104500
DTSTAMP:20260423T120935
CREATED:20251104T134234Z
LAST-MODIFIED:20251104T134234Z
UID:11521-1775124000-1775126700@theater-treptower-park.de
SUMMARY:In der Hasenschule
DESCRIPTION:[vc_row][vc_column][vc_column_text] \n\nEin fröhliches Spiel für den Schulanfang und die Osterzeit \n\n\n„Du bist einfach zu klein“\, sagt Max zu seiner Schwester. Martha jedoch folgt ihrem Bruder heimlich in die Schule. Dort lernt sie einiges über gesunde Ernährung und vor wem sich ein Hase in Acht nehmen sollte.\nMax gefällt der Ausflug seiner Schwester so gar nicht. Das ändert sich erst\, als der Jäger auftaucht und Martha überraschende Tricks anwendet. \nDauer: 45 Minuten \nRegie: Holger Brüns\nFiguren: Maarit Kreuzinger\nBühne: Ralf Klimek \nSpiel: Ute Kahmann \nFigurentheater Ute Kahmann \n\n_________ \nInformation für Gruppen: \nWenn Sie gerne für Ihre Gruppe (Kita\, Schule usw.) Plätze reservieren möchten\, nutzen Sie bitte nicht das von Pretix vorgefertigte Ticket-Programm\, sondern wenden sich direkt an uns: \nKontakt(at)theater-grashuepfer.de \n030/53 69 51 50 \n  \n\n[/vc_column_text][/vc_column][/vc_row][vc_row][vc_column][vc_gallery interval=“3″ images=“8679\,8680″ img_size=“large“][/vc_column][/vc_row]
URL:https://theater-treptower-park.de/termin/in-der-hasenschule-3/2026-04-02/
LOCATION:Figurentheater Grashüpfer\, Puschkinallee 16 a\, Berlin\, Berlin\, 12435\, Deutschland
CATEGORIES:Kinderprogramm,Puppentheater
ATTACH;FMTTYPE=image/jpeg:https://theater-treptower-park.de/wp-content/uploads/2022/12/hasenschule-1.jpg
END:VEVENT
BEGIN:VEVENT
DTSTART;TZID=Europe/Berlin:20260401T100000
DTEND;TZID=Europe/Berlin:20260401T104500
DTSTAMP:20260423T120935
CREATED:20251104T134234Z
LAST-MODIFIED:20251104T134234Z
UID:11520-1775037600-1775040300@theater-treptower-park.de
SUMMARY:In der Hasenschule
DESCRIPTION:[vc_row][vc_column][vc_column_text] \n\nEin fröhliches Spiel für den Schulanfang und die Osterzeit \n\n\n„Du bist einfach zu klein“\, sagt Max zu seiner Schwester. Martha jedoch folgt ihrem Bruder heimlich in die Schule. Dort lernt sie einiges über gesunde Ernährung und vor wem sich ein Hase in Acht nehmen sollte.\nMax gefällt der Ausflug seiner Schwester so gar nicht. Das ändert sich erst\, als der Jäger auftaucht und Martha überraschende Tricks anwendet. \nDauer: 45 Minuten \nRegie: Holger Brüns\nFiguren: Maarit Kreuzinger\nBühne: Ralf Klimek \nSpiel: Ute Kahmann \nFigurentheater Ute Kahmann \n\n_________ \nInformation für Gruppen: \nWenn Sie gerne für Ihre Gruppe (Kita\, Schule usw.) Plätze reservieren möchten\, nutzen Sie bitte nicht das von Pretix vorgefertigte Ticket-Programm\, sondern wenden sich direkt an uns: \nKontakt(at)theater-grashuepfer.de \n030/53 69 51 50 \n  \n\n[/vc_column_text][/vc_column][/vc_row][vc_row][vc_column][vc_gallery interval=“3″ images=“8679\,8680″ img_size=“large“][/vc_column][/vc_row]
URL:https://theater-treptower-park.de/termin/in-der-hasenschule-3/2026-04-01/
LOCATION:Figurentheater Grashüpfer\, Puschkinallee 16 a\, Berlin\, Berlin\, 12435\, Deutschland
CATEGORIES:Kinderprogramm,Puppentheater
ATTACH;FMTTYPE=image/jpeg:https://theater-treptower-park.de/wp-content/uploads/2022/12/hasenschule-1.jpg
END:VEVENT
BEGIN:VEVENT
DTSTART;TZID=Europe/Berlin:20260331T100000
DTEND;TZID=Europe/Berlin:20260331T104500
DTSTAMP:20260423T120935
CREATED:20251104T134234Z
LAST-MODIFIED:20251104T134234Z
UID:11519-1774951200-1774953900@theater-treptower-park.de
SUMMARY:In der Hasenschule
DESCRIPTION:[vc_row][vc_column][vc_column_text] \n\nEin fröhliches Spiel für den Schulanfang und die Osterzeit \n\n\n„Du bist einfach zu klein“\, sagt Max zu seiner Schwester. Martha jedoch folgt ihrem Bruder heimlich in die Schule. Dort lernt sie einiges über gesunde Ernährung und vor wem sich ein Hase in Acht nehmen sollte.\nMax gefällt der Ausflug seiner Schwester so gar nicht. Das ändert sich erst\, als der Jäger auftaucht und Martha überraschende Tricks anwendet. \nDauer: 45 Minuten \nRegie: Holger Brüns\nFiguren: Maarit Kreuzinger\nBühne: Ralf Klimek \nSpiel: Ute Kahmann \nFigurentheater Ute Kahmann \n\n_________ \nInformation für Gruppen: \nWenn Sie gerne für Ihre Gruppe (Kita\, Schule usw.) Plätze reservieren möchten\, nutzen Sie bitte nicht das von Pretix vorgefertigte Ticket-Programm\, sondern wenden sich direkt an uns: \nKontakt(at)theater-grashuepfer.de \n030/53 69 51 50 \n  \n\n[/vc_column_text][/vc_column][/vc_row][vc_row][vc_column][vc_gallery interval=“3″ images=“8679\,8680″ img_size=“large“][/vc_column][/vc_row]
URL:https://theater-treptower-park.de/termin/in-der-hasenschule-3/2026-03-31/
LOCATION:Figurentheater Grashüpfer\, Puschkinallee 16 a\, Berlin\, Berlin\, 12435\, Deutschland
CATEGORIES:Kinderprogramm,Puppentheater
ATTACH;FMTTYPE=image/jpeg:https://theater-treptower-park.de/wp-content/uploads/2022/12/hasenschule-1.jpg
END:VEVENT
BEGIN:VEVENT
DTSTART;TZID=Europe/Berlin:20260329T150000
DTEND;TZID=Europe/Berlin:20260329T154500
DTSTAMP:20260423T120935
CREATED:20251104T134234Z
LAST-MODIFIED:20251104T134234Z
UID:11518-1774796400-1774799100@theater-treptower-park.de
SUMMARY:In der Hasenschule
DESCRIPTION:[vc_row][vc_column][vc_column_text] \n\nEin fröhliches Spiel für den Schulanfang und die Osterzeit \n\n\n„Du bist einfach zu klein“\, sagt Max zu seiner Schwester. Martha jedoch folgt ihrem Bruder heimlich in die Schule. Dort lernt sie einiges über gesunde Ernährung und vor wem sich ein Hase in Acht nehmen sollte.\nMax gefällt der Ausflug seiner Schwester so gar nicht. Das ändert sich erst\, als der Jäger auftaucht und Martha überraschende Tricks anwendet. \nDauer: 45 Minuten \nRegie: Holger Brüns\nFiguren: Maarit Kreuzinger\nBühne: Ralf Klimek \nSpiel: Ute Kahmann \nFigurentheater Ute Kahmann \n\n_________ \nInformation für Gruppen: \nWenn Sie gerne für Ihre Gruppe (Kita\, Schule usw.) Plätze reservieren möchten\, nutzen Sie bitte nicht das von Pretix vorgefertigte Ticket-Programm\, sondern wenden sich direkt an uns: \nKontakt(at)theater-grashuepfer.de \n030/53 69 51 50 \n  \n\n[/vc_column_text][/vc_column][/vc_row][vc_row][vc_column][vc_gallery interval=“3″ images=“8679\,8680″ img_size=“large“][/vc_column][/vc_row]
URL:https://theater-treptower-park.de/termin/in-der-hasenschule-3/2026-03-29/2/
LOCATION:Figurentheater Grashüpfer\, Puschkinallee 16 a\, Berlin\, Berlin\, 12435\, Deutschland
CATEGORIES:Kinderprogramm,Puppentheater
ATTACH;FMTTYPE=image/jpeg:https://theater-treptower-park.de/wp-content/uploads/2022/12/hasenschule-1.jpg
END:VEVENT
BEGIN:VEVENT
DTSTART;TZID=Europe/Berlin:20260329T110000
DTEND;TZID=Europe/Berlin:20260329T114500
DTSTAMP:20260423T120935
CREATED:20251104T134234Z
LAST-MODIFIED:20251104T134234Z
UID:11517-1774782000-1774784700@theater-treptower-park.de
SUMMARY:In der Hasenschule
DESCRIPTION:[vc_row][vc_column][vc_column_text] \n\nEin fröhliches Spiel für den Schulanfang und die Osterzeit \n\n\n„Du bist einfach zu klein“\, sagt Max zu seiner Schwester. Martha jedoch folgt ihrem Bruder heimlich in die Schule. Dort lernt sie einiges über gesunde Ernährung und vor wem sich ein Hase in Acht nehmen sollte.\nMax gefällt der Ausflug seiner Schwester so gar nicht. Das ändert sich erst\, als der Jäger auftaucht und Martha überraschende Tricks anwendet. \nDauer: 45 Minuten \nRegie: Holger Brüns\nFiguren: Maarit Kreuzinger\nBühne: Ralf Klimek \nSpiel: Ute Kahmann \nFigurentheater Ute Kahmann \n\n_________ \nInformation für Gruppen: \nWenn Sie gerne für Ihre Gruppe (Kita\, Schule usw.) Plätze reservieren möchten\, nutzen Sie bitte nicht das von Pretix vorgefertigte Ticket-Programm\, sondern wenden sich direkt an uns: \nKontakt(at)theater-grashuepfer.de \n030/53 69 51 50 \n  \n\n[/vc_column_text][/vc_column][/vc_row][vc_row][vc_column][vc_gallery interval=“3″ images=“8679\,8680″ img_size=“large“][/vc_column][/vc_row]
URL:https://theater-treptower-park.de/termin/in-der-hasenschule-3/2026-03-29/
LOCATION:Figurentheater Grashüpfer\, Puschkinallee 16 a\, Berlin\, Berlin\, 12435\, Deutschland
CATEGORIES:Kinderprogramm,Puppentheater
ATTACH;FMTTYPE=image/jpeg:https://theater-treptower-park.de/wp-content/uploads/2022/12/hasenschule-1.jpg
END:VEVENT
BEGIN:VEVENT
DTSTART;TZID=Europe/Berlin:20260328T150000
DTEND;TZID=Europe/Berlin:20260328T154500
DTSTAMP:20260423T120935
CREATED:20251104T134234Z
LAST-MODIFIED:20251104T134234Z
UID:11516-1774710000-1774712700@theater-treptower-park.de
SUMMARY:In der Hasenschule
DESCRIPTION:[vc_row][vc_column][vc_column_text] \n\nEin fröhliches Spiel für den Schulanfang und die Osterzeit \n\n\n„Du bist einfach zu klein“\, sagt Max zu seiner Schwester. Martha jedoch folgt ihrem Bruder heimlich in die Schule. Dort lernt sie einiges über gesunde Ernährung und vor wem sich ein Hase in Acht nehmen sollte.\nMax gefällt der Ausflug seiner Schwester so gar nicht. Das ändert sich erst\, als der Jäger auftaucht und Martha überraschende Tricks anwendet. \nDauer: 45 Minuten \nRegie: Holger Brüns\nFiguren: Maarit Kreuzinger\nBühne: Ralf Klimek \nSpiel: Ute Kahmann \nFigurentheater Ute Kahmann \n\n_________ \nInformation für Gruppen: \nWenn Sie gerne für Ihre Gruppe (Kita\, Schule usw.) Plätze reservieren möchten\, nutzen Sie bitte nicht das von Pretix vorgefertigte Ticket-Programm\, sondern wenden sich direkt an uns: \nKontakt(at)theater-grashuepfer.de \n030/53 69 51 50 \n  \n\n[/vc_column_text][/vc_column][/vc_row][vc_row][vc_column][vc_gallery interval=“3″ images=“8679\,8680″ img_size=“large“][/vc_column][/vc_row]
URL:https://theater-treptower-park.de/termin/in-der-hasenschule-3/2026-03-28/
LOCATION:Figurentheater Grashüpfer\, Puschkinallee 16 a\, Berlin\, Berlin\, 12435\, Deutschland
CATEGORIES:Kinderprogramm,Puppentheater
ATTACH;FMTTYPE=image/jpeg:https://theater-treptower-park.de/wp-content/uploads/2022/12/hasenschule-1.jpg
END:VEVENT
END:VCALENDAR