BEGIN:VCALENDAR
VERSION:2.0
PRODID:-//Figurentheater Grashüpfer - ECPv6.15.12.2//NONSGML v1.0//EN
CALSCALE:GREGORIAN
METHOD:PUBLISH
X-WR-CALNAME:Figurentheater Grashüpfer
X-ORIGINAL-URL:https://theater-treptower-park.de
X-WR-CALDESC:Veranstaltungen für Figurentheater Grashüpfer
REFRESH-INTERVAL;VALUE=DURATION:PT1H
X-Robots-Tag:noindex
X-PUBLISHED-TTL:PT1H
BEGIN:VTIMEZONE
TZID:Europe/Berlin
BEGIN:DAYLIGHT
TZOFFSETFROM:+0100
TZOFFSETTO:+0200
TZNAME:CEST
DTSTART:20220327T010000
END:DAYLIGHT
BEGIN:STANDARD
TZOFFSETFROM:+0200
TZOFFSETTO:+0100
TZNAME:CET
DTSTART:20221030T010000
END:STANDARD
BEGIN:DAYLIGHT
TZOFFSETFROM:+0100
TZOFFSETTO:+0200
TZNAME:CEST
DTSTART:20230326T010000
END:DAYLIGHT
BEGIN:STANDARD
TZOFFSETFROM:+0200
TZOFFSETTO:+0100
TZNAME:CET
DTSTART:20231029T010000
END:STANDARD
BEGIN:DAYLIGHT
TZOFFSETFROM:+0100
TZOFFSETTO:+0200
TZNAME:CEST
DTSTART:20240331T010000
END:DAYLIGHT
BEGIN:STANDARD
TZOFFSETFROM:+0200
TZOFFSETTO:+0100
TZNAME:CET
DTSTART:20241027T010000
END:STANDARD
END:VTIMEZONE
BEGIN:VEVENT
DTSTART;TZID=Europe/Berlin:20230408T160000
DTEND;TZID=Europe/Berlin:20230408T164500
DTSTAMP:20260424T035515
CREATED:20230209T125456Z
LAST-MODIFIED:20230408T165056Z
UID:5069-1680969600-1680972300@theater-treptower-park.de
SUMMARY:Leo und Lea - FÄLLT AUS!
DESCRIPTION:Mausejunge Leo kann seine Schwester nicht leiden.\nAls Schwesterchen Lea auch noch den schönsten und größten Pilz des Waldes findet und von Mama überschwänglich gelobt wird\, ist für Leo das Maß voll. Er ist so böse auf alle\, dass er nicht mehr nach Hause will.\nEr läuft in den Wald\, verläuft sich und steht plötzlich vor dem Schloss einer schrecklichen Hexe. Leo entdeckt\, dass die Hexe seine Schwester gefangen hält und nicht nur das\, Lea wurde in einen Frosch verwandelt.\nDer Mäusejunge vergisst allen Ärger auf seine Schwester und will sie retten… \nIdee und Spiel: Karin Schmitt\nRegie: Uschi Marr\nAusstattung: Christof von Büren\, Karin Schmitt \nDiese Produktion wurde gefördert durch das Land Schleswig-Holstein. \nSpiel: 45′ \nWebsite die exen
URL:https://theater-treptower-park.de/termin/leo-und-lea/2023-04-08/
LOCATION:Figurentheater Grashüpfer\, Puschkinallee 16 a\, Berlin\, Berlin\, 12435\, Deutschland
ATTACH;FMTTYPE=image/jpeg:https://theater-treptower-park.de/wp-content/uploads/2023/02/csm_die-exen_loe-und-lea_05_a9642715f1.jpg
END:VEVENT
END:VCALENDAR