BEGIN:VCALENDAR
VERSION:2.0
PRODID:-//Figurentheater Grashüpfer - ECPv6.15.12.2//NONSGML v1.0//EN
CALSCALE:GREGORIAN
METHOD:PUBLISH
X-WR-CALNAME:Figurentheater Grashüpfer
X-ORIGINAL-URL:https://theater-treptower-park.de
X-WR-CALDESC:Veranstaltungen für Figurentheater Grashüpfer
REFRESH-INTERVAL;VALUE=DURATION:PT1H
X-Robots-Tag:noindex
X-PUBLISHED-TTL:PT1H
BEGIN:VTIMEZONE
TZID:Europe/Berlin
BEGIN:DAYLIGHT
TZOFFSETFROM:+0100
TZOFFSETTO:+0200
TZNAME:CEST
DTSTART:20210328T010000
END:DAYLIGHT
BEGIN:STANDARD
TZOFFSETFROM:+0200
TZOFFSETTO:+0100
TZNAME:CET
DTSTART:20211031T010000
END:STANDARD
BEGIN:DAYLIGHT
TZOFFSETFROM:+0100
TZOFFSETTO:+0200
TZNAME:CEST
DTSTART:20220327T010000
END:DAYLIGHT
BEGIN:STANDARD
TZOFFSETFROM:+0200
TZOFFSETTO:+0100
TZNAME:CET
DTSTART:20221030T010000
END:STANDARD
BEGIN:DAYLIGHT
TZOFFSETFROM:+0100
TZOFFSETTO:+0200
TZNAME:CEST
DTSTART:20230326T010000
END:DAYLIGHT
BEGIN:STANDARD
TZOFFSETFROM:+0200
TZOFFSETTO:+0100
TZNAME:CET
DTSTART:20231029T010000
END:STANDARD
END:VTIMEZONE
BEGIN:VEVENT
DTSTART;TZID=Europe/Berlin:20221101T100000
DTEND;TZID=Europe/Berlin:20221101T104500
DTSTAMP:20260425T165904
CREATED:20200909T112817Z
LAST-MODIFIED:20221019T085759Z
UID:4430-1667296800-1667299500@theater-treptower-park.de
SUMMARY:LiRumLaRum Löffelstiel // Theater Fusion // ab 3
DESCRIPTION:Wo kommt mein Essen her?\nKlara möchte Müsli frühstücken – aber leider sind die Tüten leer. Wo kommt das Essen her? Sie macht sich auf den Weg\, die wunderbare Natur zu erfahren. \nDauer: 35 Minuten \nSpiel: Susanne Olbrich \nwww.theaterfusion-berlin.de
URL:https://theater-treptower-park.de/termin/lirumlarum-loeffelstiel-theater-fusion-ab-3-2022-11-01/2022-11-01/
LOCATION:Figurentheater Grashüpfer\, Puschkinallee 16 a\, Berlin\, Berlin\, 12435\, Deutschland
ATTACH;FMTTYPE=image/jpeg:https://theater-treptower-park.de/wp-content/uploads/2020/09/LirumLarumLöffelstiel_1435143-scaled.jpg
END:VEVENT
END:VCALENDAR