BEGIN:VCALENDAR
VERSION:2.0
PRODID:-//Figurentheater Grashüpfer - ECPv6.15.12.2//NONSGML v1.0//EN
CALSCALE:GREGORIAN
METHOD:PUBLISH
X-ORIGINAL-URL:https://theater-treptower-park.de
X-WR-CALDESC:Veranstaltungen für Figurentheater Grashüpfer
REFRESH-INTERVAL;VALUE=DURATION:PT1H
X-Robots-Tag:noindex
X-PUBLISHED-TTL:PT1H
BEGIN:VTIMEZONE
TZID:Europe/Berlin
BEGIN:DAYLIGHT
TZOFFSETFROM:+0100
TZOFFSETTO:+0200
TZNAME:CEST
DTSTART:20230326T010000
END:DAYLIGHT
BEGIN:STANDARD
TZOFFSETFROM:+0200
TZOFFSETTO:+0100
TZNAME:CET
DTSTART:20231029T010000
END:STANDARD
BEGIN:DAYLIGHT
TZOFFSETFROM:+0100
TZOFFSETTO:+0200
TZNAME:CEST
DTSTART:20240331T010000
END:DAYLIGHT
BEGIN:STANDARD
TZOFFSETFROM:+0200
TZOFFSETTO:+0100
TZNAME:CET
DTSTART:20241027T010000
END:STANDARD
BEGIN:DAYLIGHT
TZOFFSETFROM:+0100
TZOFFSETTO:+0200
TZNAME:CEST
DTSTART:20250330T010000
END:DAYLIGHT
BEGIN:STANDARD
TZOFFSETFROM:+0200
TZOFFSETTO:+0100
TZNAME:CET
DTSTART:20251026T010000
END:STANDARD
END:VTIMEZONE
BEGIN:VEVENT
DTSTART;TZID=Europe/Berlin:20240918T100000
DTEND;TZID=Europe/Berlin:20240918T104500
DTSTAMP:20260425T162454
CREATED:20240516T124241Z
LAST-MODIFIED:20240516T124241Z
UID:7572-1726653600-1726656300@theater-treptower-park.de
SUMMARY:Nur wir alle
DESCRIPTION:  Geschichte vom Finden und Zusammenbleiben \nDas kennen schon die Kleinsten: mutig fragen\, „Darf ich mitspielen?“\nDoch man wird zuweilen abgelehnt\, ausgelacht\, gemobbt.\nSo ergeht es Maus\, Hirsch\, Fisch\, Erdmännchen…\nAm Liebsten möchten sie den Kopf in den Sand stecken.\nNicht aufgeben – nachdenken ! Haben auch die Zuschauer Erfahrungen und daher Ideen?\nVielleicht finden wir einen Kompromiss\, mit dem jeder Beteiligte einverstanden ist?\nDas ist nicht immer leicht: emotionalen Zündstoff gibt es genug.\nDoch die Tiere lernen\, aufeinander einzugehen und akzeptieren ihre Unterschiedlichkeit.\nAuf ihrem Abenteuer gewinnen sie Vertrauen und werden ein Team – NUR WIR ALLE. \nSusanne Olbrich mit Puppen\, Worten und Musik.\nProduktion TheaterFusion\nRegie Susi Claus\nAusstattung\, Spiel Susanne Olbrich\nMusik Tobias Dutschke \nhttps://www.theaterfusion-berlin.de/de/stuecke/nur-wir-alle/ \n______ \n  \nWenn Sie gerne für Ihre Gruppe (Kita\, Schule usw.) Plätze reservieren möchten\, nutzen Sie bitte nicht das von Pretix vorgefertigte Ticket-Programm\, sondern wenden Sie sich direkt an uns: \nKontakt@theater-grashuepfer.de \n030/53 69 51 50
URL:https://theater-treptower-park.de/termin/nur-wir-alle-2/2024-09-18/
LOCATION:Figurentheater Grashüpfer\, Puschkinallee 16 a\, Berlin\, Berlin\, 12435\, Deutschland
ATTACH;FMTTYPE=image/jpeg:https://theater-treptower-park.de/wp-content/uploads/2024/05/hirsch_1_2.jpg
END:VEVENT
BEGIN:VEVENT
DTSTART;TZID=Europe/Berlin:20240917T100000
DTEND;TZID=Europe/Berlin:20240917T104500
DTSTAMP:20260425T162454
CREATED:20240516T124241Z
LAST-MODIFIED:20240516T124241Z
UID:7570-1726567200-1726569900@theater-treptower-park.de
SUMMARY:Nur wir alle
DESCRIPTION:  Geschichte vom Finden und Zusammenbleiben \nDas kennen schon die Kleinsten: mutig fragen\, „Darf ich mitspielen?“\nDoch man wird zuweilen abgelehnt\, ausgelacht\, gemobbt.\nSo ergeht es Maus\, Hirsch\, Fisch\, Erdmännchen…\nAm Liebsten möchten sie den Kopf in den Sand stecken.\nNicht aufgeben – nachdenken ! Haben auch die Zuschauer Erfahrungen und daher Ideen?\nVielleicht finden wir einen Kompromiss\, mit dem jeder Beteiligte einverstanden ist?\nDas ist nicht immer leicht: emotionalen Zündstoff gibt es genug.\nDoch die Tiere lernen\, aufeinander einzugehen und akzeptieren ihre Unterschiedlichkeit.\nAuf ihrem Abenteuer gewinnen sie Vertrauen und werden ein Team – NUR WIR ALLE. \nSusanne Olbrich mit Puppen\, Worten und Musik.\nProduktion TheaterFusion\nRegie Susi Claus\nAusstattung\, Spiel Susanne Olbrich\nMusik Tobias Dutschke \nhttps://www.theaterfusion-berlin.de/de/stuecke/nur-wir-alle/ \n______ \n  \nWenn Sie gerne für Ihre Gruppe (Kita\, Schule usw.) Plätze reservieren möchten\, nutzen Sie bitte nicht das von Pretix vorgefertigte Ticket-Programm\, sondern wenden Sie sich direkt an uns: \nKontakt@theater-grashuepfer.de \n030/53 69 51 50
URL:https://theater-treptower-park.de/termin/nur-wir-alle-2/
LOCATION:Figurentheater Grashüpfer\, Puschkinallee 16 a\, Berlin\, Berlin\, 12435\, Deutschland
ATTACH;FMTTYPE=image/jpeg:https://theater-treptower-park.de/wp-content/uploads/2024/05/hirsch_1_2.jpg
END:VEVENT
END:VCALENDAR