BEGIN:VCALENDAR
VERSION:2.0
PRODID:-//Figurentheater Grashüpfer - ECPv6.15.12.2//NONSGML v1.0//EN
CALSCALE:GREGORIAN
METHOD:PUBLISH
X-WR-CALNAME:Figurentheater Grashüpfer
X-ORIGINAL-URL:https://theater-treptower-park.de
X-WR-CALDESC:Veranstaltungen für Figurentheater Grashüpfer
REFRESH-INTERVAL;VALUE=DURATION:PT1H
X-Robots-Tag:noindex
X-PUBLISHED-TTL:PT1H
BEGIN:VTIMEZONE
TZID:Europe/Berlin
BEGIN:DAYLIGHT
TZOFFSETFROM:+0100
TZOFFSETTO:+0200
TZNAME:CEST
DTSTART:20220327T010000
END:DAYLIGHT
BEGIN:STANDARD
TZOFFSETFROM:+0200
TZOFFSETTO:+0100
TZNAME:CET
DTSTART:20221030T010000
END:STANDARD
BEGIN:DAYLIGHT
TZOFFSETFROM:+0100
TZOFFSETTO:+0200
TZNAME:CEST
DTSTART:20230326T010000
END:DAYLIGHT
BEGIN:STANDARD
TZOFFSETFROM:+0200
TZOFFSETTO:+0100
TZNAME:CET
DTSTART:20231029T010000
END:STANDARD
BEGIN:DAYLIGHT
TZOFFSETFROM:+0100
TZOFFSETTO:+0200
TZNAME:CEST
DTSTART:20240331T010000
END:DAYLIGHT
BEGIN:STANDARD
TZOFFSETFROM:+0200
TZOFFSETTO:+0100
TZNAME:CET
DTSTART:20241027T010000
END:STANDARD
END:VTIMEZONE
BEGIN:VEVENT
DTSTART;TZID=Europe/Berlin:20231021T150000
DTEND;TZID=Europe/Berlin:20231021T154500
DTSTAMP:20260423T225902
CREATED:20230803T112011Z
LAST-MODIFIED:20231021T125010Z
UID:6151-1697900400-1697903100@theater-treptower-park.de
SUMMARY:Nur wir alle
DESCRIPTION:Das kennen schon die Kleinsten: mutig fragen\, „Darf ich mitspielen?“\nDoch man wird zuweilen abgelehnt\, ausgelacht\, gemobbt.\nSo ergeht es Maus\, Hirsch\, Fisch\, Erdmännchen…\nAm Liebsten möchten sie den Kopf in den Sand stecken.\nNicht aufgeben – nachdenken ! Haben auch die Zuschauer Erfahrungen und daher Ideen?\nVielleicht finden wir einen Kompromiss\, mit dem jeder Beteiligte einverstanden ist?\nDas ist nicht immer leicht: emotionalen Zündstoff gibt es genug.\nDoch die Tiere lernen\, aufeinander einzugehen und akzeptieren ihre Unterschiedlichkeit.\nAuf ihrem Abenteuer gewinnen sie Vertrauen und werden ein Team – NUR WIR ALLE. \nNach dem Buch ‚nur wir alle‘ von Lorenz Pauli und Kathrin Schärer. © 2012 Atlantis\, ein Imprint der Orell Füssli Verlag AG\, Schweiz\, Alle Rechte vorbehalten. \n  \nSusanne Olbrich mit Puppen\, Worten und Musik.\nProduktion TheaterFusion\nRegie Susi Claus\nAusstattung\, Spiel Susanne Olbrich\nMusik Tobias Dutschke \nDauer: ca. 45 Minuten \n_____________ \nKontakt@theater-grashuepfer.de \n030/53 69 51 50
URL:https://theater-treptower-park.de/termin/nur-wir-alle/2023-10-21/
LOCATION:Figurentheater Grashüpfer\, Puschkinallee 16 a\, Berlin\, Berlin\, 12435\, Deutschland
ATTACH;FMTTYPE=image/jpeg:https://theater-treptower-park.de/wp-content/uploads/2023/08/hirsch_1_2.jpg
END:VEVENT
END:VCALENDAR