BEGIN:VCALENDAR
VERSION:2.0
PRODID:-//Figurentheater Grashüpfer - ECPv6.15.12.2//NONSGML v1.0//EN
CALSCALE:GREGORIAN
METHOD:PUBLISH
X-ORIGINAL-URL:https://theater-treptower-park.de
X-WR-CALDESC:Veranstaltungen für Figurentheater Grashüpfer
REFRESH-INTERVAL;VALUE=DURATION:PT1H
X-Robots-Tag:noindex
X-PUBLISHED-TTL:PT1H
BEGIN:VTIMEZONE
TZID:Europe/Berlin
BEGIN:DAYLIGHT
TZOFFSETFROM:+0100
TZOFFSETTO:+0200
TZNAME:CEST
DTSTART:20230326T010000
END:DAYLIGHT
BEGIN:STANDARD
TZOFFSETFROM:+0200
TZOFFSETTO:+0100
TZNAME:CET
DTSTART:20231029T010000
END:STANDARD
BEGIN:DAYLIGHT
TZOFFSETFROM:+0100
TZOFFSETTO:+0200
TZNAME:CEST
DTSTART:20240331T010000
END:DAYLIGHT
BEGIN:STANDARD
TZOFFSETFROM:+0200
TZOFFSETTO:+0100
TZNAME:CET
DTSTART:20241027T010000
END:STANDARD
BEGIN:DAYLIGHT
TZOFFSETFROM:+0100
TZOFFSETTO:+0200
TZNAME:CEST
DTSTART:20250330T010000
END:DAYLIGHT
BEGIN:STANDARD
TZOFFSETFROM:+0200
TZOFFSETTO:+0100
TZNAME:CET
DTSTART:20251026T010000
END:STANDARD
END:VTIMEZONE
BEGIN:VEVENT
DTSTART;TZID=Europe/Berlin:20240526T143000
DTEND;TZID=Europe/Berlin:20240526T153000
DTSTAMP:20260425T190922
CREATED:20240227T104550Z
LAST-MODIFIED:20240514T190732Z
UID:7472-1716733800-1716737400@theater-treptower-park.de
SUMMARY:Puppenbau - Workshop für Familien
DESCRIPTION:[vc_row][vc_column][vc_column_text]Mit welchem Zauber aus Materialien des Alltags und ein wenig Mut auf einer kleinen Bühne unversehens „Leben“ entsteht\, dass lässt sich beim Puppenbau Workshop für Familien erkunden. \nAus Stoff\, Holz\, Kleber\, Faden und Papier basteln Groß und Klein Stab- und Fingerpuppen. \nSeien es Tiere\, Teufel\, Feen\, Sockenmonster oder Schnapperschönheiten\, der Fantasie sind dabei keine Grenzen gesetzt. \nEintritt: 3\,50 pro Person.\nFür die Bastelmaterialien wird ein Unkostenpreis erhoben. \nDauer: 60′ \n__________ \nAUF ANFRAGE AUCH FÜR KITA- UND HORT-GRUPPEN: \nKontakt@theater-grashuepfer.de\n030/53 69 51 50[/vc_column_text][/vc_column][/vc_row][vc_row][vc_column][vc_gallery interval=“3″ images=“7329\,7328\,7327\,7326\,7325\,7330\,7319″ img_size=“large“][/vc_column][/vc_row]
URL:https://theater-treptower-park.de/termin/puppenbau-workshop-fuer-familien-2/2024-05-26/2/
LOCATION:Figurentheater Grashüpfer\, Puschkinallee 16 a\, Berlin\, Berlin\, 12435\, Deutschland
END:VEVENT
BEGIN:VEVENT
DTSTART;TZID=Europe/Berlin:20240526T130000
DTEND;TZID=Europe/Berlin:20240526T140000
DTSTAMP:20260425T190922
CREATED:20240227T104550Z
LAST-MODIFIED:20240514T190732Z
UID:7471-1716728400-1716732000@theater-treptower-park.de
SUMMARY:Puppenbau - Workshop für Familien
DESCRIPTION:[vc_row][vc_column][vc_column_text]Mit welchem Zauber aus Materialien des Alltags und ein wenig Mut auf einer kleinen Bühne unversehens „Leben“ entsteht\, dass lässt sich beim Puppenbau Workshop für Familien erkunden. \nAus Stoff\, Holz\, Kleber\, Faden und Papier basteln Groß und Klein Stab- und Fingerpuppen. \nSeien es Tiere\, Teufel\, Feen\, Sockenmonster oder Schnapperschönheiten\, der Fantasie sind dabei keine Grenzen gesetzt. \nEintritt: 3\,50 pro Person.\nFür die Bastelmaterialien wird ein Unkostenpreis erhoben. \nDauer: 60′ \n__________ \nAUF ANFRAGE AUCH FÜR KITA- UND HORT-GRUPPEN: \nKontakt@theater-grashuepfer.de\n030/53 69 51 50[/vc_column_text][/vc_column][/vc_row][vc_row][vc_column][vc_gallery interval=“3″ images=“7329\,7328\,7327\,7326\,7325\,7330\,7319″ img_size=“large“][/vc_column][/vc_row]
URL:https://theater-treptower-park.de/termin/puppenbau-workshop-fuer-familien-2/2024-05-26/
LOCATION:Figurentheater Grashüpfer\, Puschkinallee 16 a\, Berlin\, Berlin\, 12435\, Deutschland
END:VEVENT
BEGIN:VEVENT
DTSTART;TZID=Europe/Berlin:20240525T120000
DTEND;TZID=Europe/Berlin:20240525T130000
DTSTAMP:20260425T190922
CREATED:20240227T104550Z
LAST-MODIFIED:20240514T192114Z
UID:7242-1716638400-1716642000@theater-treptower-park.de
SUMMARY:Puppenbau - Workshop für Familien
DESCRIPTION:[vc_row][vc_column][vc_column_text]Mit welchem Zauber aus Materialien des Alltags und ein wenig Mut auf einer kleinen Bühne unversehens „Leben“ entsteht\, dass lässt sich beim Puppenbau Workshop für Familien erkunden. \nAus Stoff\, Holz\, Kleber\, Faden und Papier basteln Groß und Klein Stab- und Fingerpuppen. \nSeien es Tiere\, Teufel\, Feen\, Sockenmonster oder Schnapperschönheiten\, der Fantasie sind dabei keine Grenzen gesetzt. \nEintritt: 3\,50 pro Person.\nFür die Bastelmaterialien wird ein Unkostenpreis erhoben. \nDauer: 60′ \n__________ \nAUF ANFRAGE AUCH FÜR KITA- UND HORT-GRUPPEN: \nKontakt@theater-grashuepfer.de\n030/53 69 51 50[/vc_column_text][/vc_column][/vc_row][vc_row][vc_column][vc_gallery interval=“3″ images=“7329\,7328\,7327\,7319″ img_size=“large“][/vc_column][/vc_row]
URL:https://theater-treptower-park.de/termin/puppenbau-workshop-fuer-familien-2/2024-05-25/
LOCATION:Figurentheater Grashüpfer\, Puschkinallee 16 a\, Berlin\, Berlin\, 12435\, Deutschland
END:VEVENT
END:VCALENDAR