BEGIN:VCALENDAR
VERSION:2.0
PRODID:-//Figurentheater Grashüpfer - ECPv6.15.12.2//NONSGML v1.0//EN
CALSCALE:GREGORIAN
METHOD:PUBLISH
X-WR-CALNAME:Figurentheater Grashüpfer
X-ORIGINAL-URL:https://theater-treptower-park.de
X-WR-CALDESC:Veranstaltungen für Figurentheater Grashüpfer
REFRESH-INTERVAL;VALUE=DURATION:PT1H
X-Robots-Tag:noindex
X-PUBLISHED-TTL:PT1H
BEGIN:VTIMEZONE
TZID:Europe/Berlin
BEGIN:DAYLIGHT
TZOFFSETFROM:+0100
TZOFFSETTO:+0200
TZNAME:CEST
DTSTART:20250330T010000
END:DAYLIGHT
BEGIN:STANDARD
TZOFFSETFROM:+0200
TZOFFSETTO:+0100
TZNAME:CET
DTSTART:20251026T010000
END:STANDARD
BEGIN:DAYLIGHT
TZOFFSETFROM:+0100
TZOFFSETTO:+0200
TZNAME:CEST
DTSTART:20260329T010000
END:DAYLIGHT
BEGIN:STANDARD
TZOFFSETFROM:+0200
TZOFFSETTO:+0100
TZNAME:CET
DTSTART:20261025T010000
END:STANDARD
BEGIN:DAYLIGHT
TZOFFSETFROM:+0100
TZOFFSETTO:+0200
TZNAME:CEST
DTSTART:20270328T010000
END:DAYLIGHT
BEGIN:STANDARD
TZOFFSETFROM:+0200
TZOFFSETTO:+0100
TZNAME:CET
DTSTART:20271031T010000
END:STANDARD
END:VTIMEZONE
BEGIN:VEVENT
DTSTART;TZID=Europe/Berlin:20260122T100000
DTEND;TZID=Europe/Berlin:20260122T104500
DTSTAMP:20260423T121032
CREATED:20251029T130246Z
LAST-MODIFIED:20251029T131710Z
UID:11280-1769076000-1769078700@theater-treptower-park.de
SUMMARY:Räuber auf der Hut
DESCRIPTION:[vc_row][vc_column][vc_column_text]Feinstes Musiktheater zum Mitmachen ab 3 Jahre \nWie ein Räuberkind seinen Mut findet.\nDen Mut Nein zu sagen.\nDen Mut über sich hinaus zu wachsen.\nDen Mut seinen Räuberpapa aus dem Gefängnis zu befreien.\nDen Mut seinen eigenen Weg zu gehen. \nVom Räuberkind zur Quatschkommode. \nTexte und Musik:\nChristian Zebisch \nWebsite & Trailer \n_______ \nInformationen für Gruppen: \nWenn Sie gerne für Ihre Gruppe (Kita\, Schule usw.) Plätze reservieren möchten\, nutzen Sie bitte nicht das von Pretix vorgefertigte Ticket-Programm\, sondern wenden Sie sich direkt an uns: \nKontakt@theater-grashuepfer.de \n030/53 69 51 50[/vc_column_text][/vc_column][/vc_row][vc_row][vc_column][vc_gallery interval=“3″ images=“11285\,11284\,11282\,11283″ img_size=“full“][/vc_column][/vc_row]
URL:https://theater-treptower-park.de/termin/raeuber-auf-der-hut-2/2026-01-22/
LOCATION:Figurentheater Grashüpfer\, Puschkinallee 16 a\, Berlin\, Berlin\, 12435\, Deutschland
CATEGORIES:Kinderprogramm,Musiktheater
ATTACH;FMTTYPE=image/jpeg:https://theater-treptower-park.de/wp-content/uploads/2024/10/Promobild-Raeuberkind-II-1536x1249-1.jpg
END:VEVENT
BEGIN:VEVENT
DTSTART;TZID=Europe/Berlin:20260121T100000
DTEND;TZID=Europe/Berlin:20260121T104500
DTSTAMP:20260423T121032
CREATED:20251029T130246Z
LAST-MODIFIED:20251029T131709Z
UID:11279-1768989600-1768992300@theater-treptower-park.de
SUMMARY:Räuber auf der Hut
DESCRIPTION:[vc_row][vc_column][vc_column_text]Feinstes Musiktheater zum Mitmachen ab 3 Jahre \nWie ein Räuberkind seinen Mut findet.\nDen Mut Nein zu sagen.\nDen Mut über sich hinaus zu wachsen.\nDen Mut seinen Räuberpapa aus dem Gefängnis zu befreien.\nDen Mut seinen eigenen Weg zu gehen. \nVom Räuberkind zur Quatschkommode. \nTexte und Musik:\nChristian Zebisch \nWebsite & Trailer \n_______ \nInformationen für Gruppen: \nWenn Sie gerne für Ihre Gruppe (Kita\, Schule usw.) Plätze reservieren möchten\, nutzen Sie bitte nicht das von Pretix vorgefertigte Ticket-Programm\, sondern wenden Sie sich direkt an uns: \nKontakt@theater-grashuepfer.de \n030/53 69 51 50[/vc_column_text][/vc_column][/vc_row][vc_row][vc_column][vc_gallery interval=“3″ images=“11285\,11284\,11282\,11283″ img_size=“full“][/vc_column][/vc_row]
URL:https://theater-treptower-park.de/termin/raeuber-auf-der-hut-2/2026-01-21/
LOCATION:Figurentheater Grashüpfer\, Puschkinallee 16 a\, Berlin\, Berlin\, 12435\, Deutschland
CATEGORIES:Kinderprogramm,Musiktheater
ATTACH;FMTTYPE=image/jpeg:https://theater-treptower-park.de/wp-content/uploads/2024/10/Promobild-Raeuberkind-II-1536x1249-1.jpg
END:VEVENT
BEGIN:VEVENT
DTSTART;TZID=Europe/Berlin:20260120T100000
DTEND;TZID=Europe/Berlin:20260120T104500
DTSTAMP:20260423T121032
CREATED:20251029T130246Z
LAST-MODIFIED:20251029T131708Z
UID:11278-1768903200-1768905900@theater-treptower-park.de
SUMMARY:Räuber auf der Hut
DESCRIPTION:[vc_row][vc_column][vc_column_text]Feinstes Musiktheater zum Mitmachen ab 3 Jahre \nWie ein Räuberkind seinen Mut findet.\nDen Mut Nein zu sagen.\nDen Mut über sich hinaus zu wachsen.\nDen Mut seinen Räuberpapa aus dem Gefängnis zu befreien.\nDen Mut seinen eigenen Weg zu gehen. \nVom Räuberkind zur Quatschkommode. \nTexte und Musik:\nChristian Zebisch \nWebsite & Trailer \n_______ \nInformationen für Gruppen: \nWenn Sie gerne für Ihre Gruppe (Kita\, Schule usw.) Plätze reservieren möchten\, nutzen Sie bitte nicht das von Pretix vorgefertigte Ticket-Programm\, sondern wenden Sie sich direkt an uns: \nKontakt@theater-grashuepfer.de \n030/53 69 51 50[/vc_column_text][/vc_column][/vc_row][vc_row][vc_column][vc_gallery interval=“3″ images=“11285\,11284\,11282\,11283″ img_size=“full“][/vc_column][/vc_row]
URL:https://theater-treptower-park.de/termin/raeuber-auf-der-hut-2/2026-01-20/
LOCATION:Figurentheater Grashüpfer\, Puschkinallee 16 a\, Berlin\, Berlin\, 12435\, Deutschland
CATEGORIES:Kinderprogramm,Musiktheater
ATTACH;FMTTYPE=image/jpeg:https://theater-treptower-park.de/wp-content/uploads/2024/10/Promobild-Raeuberkind-II-1536x1249-1.jpg
END:VEVENT
BEGIN:VEVENT
DTSTART;TZID=Europe/Berlin:20260118T150000
DTEND;TZID=Europe/Berlin:20260118T154500
DTSTAMP:20260423T121032
CREATED:20251029T130246Z
LAST-MODIFIED:20251029T131707Z
UID:11277-1768748400-1768751100@theater-treptower-park.de
SUMMARY:Räuber auf der Hut
DESCRIPTION:[vc_row][vc_column][vc_column_text]Feinstes Musiktheater zum Mitmachen ab 3 Jahre \nWie ein Räuberkind seinen Mut findet.\nDen Mut Nein zu sagen.\nDen Mut über sich hinaus zu wachsen.\nDen Mut seinen Räuberpapa aus dem Gefängnis zu befreien.\nDen Mut seinen eigenen Weg zu gehen. \nVom Räuberkind zur Quatschkommode. \nTexte und Musik:\nChristian Zebisch \nWebsite & Trailer \n_______ \nInformationen für Gruppen: \nWenn Sie gerne für Ihre Gruppe (Kita\, Schule usw.) Plätze reservieren möchten\, nutzen Sie bitte nicht das von Pretix vorgefertigte Ticket-Programm\, sondern wenden Sie sich direkt an uns: \nKontakt@theater-grashuepfer.de \n030/53 69 51 50[/vc_column_text][/vc_column][/vc_row][vc_row][vc_column][vc_gallery interval=“3″ images=“11285\,11284\,11282\,11283″ img_size=“full“][/vc_column][/vc_row]
URL:https://theater-treptower-park.de/termin/raeuber-auf-der-hut-2/2026-01-18/2/
LOCATION:Figurentheater Grashüpfer\, Puschkinallee 16 a\, Berlin\, Berlin\, 12435\, Deutschland
CATEGORIES:Kinderprogramm,Musiktheater
ATTACH;FMTTYPE=image/jpeg:https://theater-treptower-park.de/wp-content/uploads/2024/10/Promobild-Raeuberkind-II-1536x1249-1.jpg
END:VEVENT
BEGIN:VEVENT
DTSTART;TZID=Europe/Berlin:20260118T110000
DTEND;TZID=Europe/Berlin:20260118T114500
DTSTAMP:20260423T121032
CREATED:20251029T130246Z
LAST-MODIFIED:20251029T131707Z
UID:11276-1768734000-1768736700@theater-treptower-park.de
SUMMARY:Räuber auf der Hut
DESCRIPTION:[vc_row][vc_column][vc_column_text]Feinstes Musiktheater zum Mitmachen ab 3 Jahre \nWie ein Räuberkind seinen Mut findet.\nDen Mut Nein zu sagen.\nDen Mut über sich hinaus zu wachsen.\nDen Mut seinen Räuberpapa aus dem Gefängnis zu befreien.\nDen Mut seinen eigenen Weg zu gehen. \nVom Räuberkind zur Quatschkommode. \nTexte und Musik:\nChristian Zebisch \nWebsite & Trailer \n_______ \nInformationen für Gruppen: \nWenn Sie gerne für Ihre Gruppe (Kita\, Schule usw.) Plätze reservieren möchten\, nutzen Sie bitte nicht das von Pretix vorgefertigte Ticket-Programm\, sondern wenden Sie sich direkt an uns: \nKontakt@theater-grashuepfer.de \n030/53 69 51 50[/vc_column_text][/vc_column][/vc_row][vc_row][vc_column][vc_gallery interval=“3″ images=“11285\,11284\,11282\,11283″ img_size=“full“][/vc_column][/vc_row]
URL:https://theater-treptower-park.de/termin/raeuber-auf-der-hut-2/2026-01-18/
LOCATION:Figurentheater Grashüpfer\, Puschkinallee 16 a\, Berlin\, Berlin\, 12435\, Deutschland
CATEGORIES:Kinderprogramm,Musiktheater
ATTACH;FMTTYPE=image/jpeg:https://theater-treptower-park.de/wp-content/uploads/2024/10/Promobild-Raeuberkind-II-1536x1249-1.jpg
END:VEVENT
BEGIN:VEVENT
DTSTART;TZID=Europe/Berlin:20260117T150000
DTEND;TZID=Europe/Berlin:20260117T154500
DTSTAMP:20260423T121032
CREATED:20251029T130246Z
LAST-MODIFIED:20251029T131706Z
UID:11275-1768662000-1768664700@theater-treptower-park.de
SUMMARY:Räuber auf der Hut
DESCRIPTION:[vc_row][vc_column][vc_column_text]Feinstes Musiktheater zum Mitmachen ab 3 Jahre \nWie ein Räuberkind seinen Mut findet.\nDen Mut Nein zu sagen.\nDen Mut über sich hinaus zu wachsen.\nDen Mut seinen Räuberpapa aus dem Gefängnis zu befreien.\nDen Mut seinen eigenen Weg zu gehen. \nVom Räuberkind zur Quatschkommode. \nTexte und Musik:\nChristian Zebisch \nWebsite & Trailer \n_______ \nInformationen für Gruppen: \nWenn Sie gerne für Ihre Gruppe (Kita\, Schule usw.) Plätze reservieren möchten\, nutzen Sie bitte nicht das von Pretix vorgefertigte Ticket-Programm\, sondern wenden Sie sich direkt an uns: \nKontakt@theater-grashuepfer.de \n030/53 69 51 50[/vc_column_text][/vc_column][/vc_row][vc_row][vc_column][vc_gallery interval=“3″ images=“11285\,11284\,11282\,11283″ img_size=“full“][/vc_column][/vc_row]
URL:https://theater-treptower-park.de/termin/raeuber-auf-der-hut-2/2026-01-17/
LOCATION:Figurentheater Grashüpfer\, Puschkinallee 16 a\, Berlin\, Berlin\, 12435\, Deutschland
CATEGORIES:Kinderprogramm,Musiktheater
ATTACH;FMTTYPE=image/jpeg:https://theater-treptower-park.de/wp-content/uploads/2024/10/Promobild-Raeuberkind-II-1536x1249-1.jpg
END:VEVENT
END:VCALENDAR