BEGIN:VCALENDAR
VERSION:2.0
PRODID:-//Figurentheater Grashüpfer - ECPv6.15.12.2//NONSGML v1.0//EN
CALSCALE:GREGORIAN
METHOD:PUBLISH
X-ORIGINAL-URL:https://theater-treptower-park.de
X-WR-CALDESC:Veranstaltungen für Figurentheater Grashüpfer
REFRESH-INTERVAL;VALUE=DURATION:PT1H
X-Robots-Tag:noindex
X-PUBLISHED-TTL:PT1H
BEGIN:VTIMEZONE
TZID:Europe/Berlin
BEGIN:DAYLIGHT
TZOFFSETFROM:+0100
TZOFFSETTO:+0200
TZNAME:CEST
DTSTART:20220327T010000
END:DAYLIGHT
BEGIN:STANDARD
TZOFFSETFROM:+0200
TZOFFSETTO:+0100
TZNAME:CET
DTSTART:20221030T010000
END:STANDARD
BEGIN:DAYLIGHT
TZOFFSETFROM:+0100
TZOFFSETTO:+0200
TZNAME:CEST
DTSTART:20230326T010000
END:DAYLIGHT
BEGIN:STANDARD
TZOFFSETFROM:+0200
TZOFFSETTO:+0100
TZNAME:CET
DTSTART:20231029T010000
END:STANDARD
BEGIN:DAYLIGHT
TZOFFSETFROM:+0100
TZOFFSETTO:+0200
TZNAME:CEST
DTSTART:20240331T010000
END:DAYLIGHT
BEGIN:STANDARD
TZOFFSETFROM:+0200
TZOFFSETTO:+0100
TZNAME:CET
DTSTART:20241027T010000
END:STANDARD
END:VTIMEZONE
BEGIN:VEVENT
DTSTART;TZID=Europe/Berlin:20231022T121500
DTEND;TZID=Europe/Berlin:20231022T131500
DTSTAMP:20260424T004136
CREATED:20230816T105308Z
LAST-MODIFIED:20231027T121607Z
UID:6320-1697976900-1697980500@theater-treptower-park.de
SUMMARY:Spuk im Figurentheater ***AUSVERKAUFT***
DESCRIPTION:Magische Aktionen und Zaubereien im Schwarzlicht.\nWir laden Groß und Klein zum Mitspuken ein. Die Kinder können bei uns magische Sockenmonster und Gespenster selber bauen\, Tücher schweben lassen\, sich im Kürbislauf üben\, Maskentanz veranstalten\, ihre Eltern verzaubern. Wir werden gemeinsam im Schein der Schwarzlichtlampen experimentieren und spielen. \n***Eintritt frei *** \nFür die Bastelmaterialien wird ein Unkostenpreis erhoben. \nEine Anmeldung ist notwendig. \n______________ \n  \nKontakt@theater-grashuepfer.de \n030/53 69 51 50
URL:https://theater-treptower-park.de/termin/spuk-im-figurentheater-2023-10-22/2023-10-22/
LOCATION:Figurentheater Grashüpfer\, Puschkinallee 16 a\, Berlin\, Berlin\, 12435\, Deutschland
ATTACH;FMTTYPE=image/jpeg:https://theater-treptower-park.de/wp-content/uploads/2023/08/2018_11_05_IMG_0558-scaled.jpg
END:VEVENT
END:VCALENDAR