BEGIN:VCALENDAR
VERSION:2.0
PRODID:-//Figurentheater Grashüpfer - ECPv6.15.12.2//NONSGML v1.0//EN
CALSCALE:GREGORIAN
METHOD:PUBLISH
X-ORIGINAL-URL:https://theater-treptower-park.de
X-WR-CALDESC:Veranstaltungen für Figurentheater Grashüpfer
REFRESH-INTERVAL;VALUE=DURATION:PT1H
X-Robots-Tag:noindex
X-PUBLISHED-TTL:PT1H
BEGIN:VTIMEZONE
TZID:Europe/Berlin
BEGIN:DAYLIGHT
TZOFFSETFROM:+0100
TZOFFSETTO:+0200
TZNAME:CEST
DTSTART:20230326T010000
END:DAYLIGHT
BEGIN:STANDARD
TZOFFSETFROM:+0200
TZOFFSETTO:+0100
TZNAME:CET
DTSTART:20231029T010000
END:STANDARD
BEGIN:DAYLIGHT
TZOFFSETFROM:+0100
TZOFFSETTO:+0200
TZNAME:CEST
DTSTART:20240331T010000
END:DAYLIGHT
BEGIN:STANDARD
TZOFFSETFROM:+0200
TZOFFSETTO:+0100
TZNAME:CET
DTSTART:20241027T010000
END:STANDARD
BEGIN:DAYLIGHT
TZOFFSETFROM:+0100
TZOFFSETTO:+0200
TZNAME:CEST
DTSTART:20250330T010000
END:DAYLIGHT
BEGIN:STANDARD
TZOFFSETFROM:+0200
TZOFFSETTO:+0100
TZNAME:CET
DTSTART:20251026T010000
END:STANDARD
END:VTIMEZONE
BEGIN:VEVENT
DTSTART;TZID=Europe/Berlin:20240523T100000
DTEND;TZID=Europe/Berlin:20240523T104500
DTSTAMP:20260425T162700
CREATED:20240130T122306Z
LAST-MODIFIED:20240130T122306Z
UID:7377-1716458400-1716461100@theater-treptower-park.de
SUMMARY:TASCHE – Wut muss drin sein
DESCRIPTION:TASCHE hat einen Plan. Er kommt mit seinem Equipment auf eine leere Bühne und baut sein Musik-Pult\, seinen Lautsprecher\, seine Beleuchtung und sogar eine kleine Treppe für den großen Auftritt auf. Alles um ein Lied zu singen. Doch die Bühne ist nicht vollkommen leer. Da liegt ein Stück Klebeband\, vergessen\, nicht gründlich geputzt….da geht es mit TASCHE gleich durch…er regt sich auf\, bekommt ne Wut. TASCHE wird leicht wütend und muss mit seinen Wutanfällen umgehen. Manche atmet oder tanzt er weg\, über andere Wutanfälle muss er reden\, damit diese ganze verrückte Energie raus kommt.\nVielleicht philosophiert er auch über Wut\, hat den ein oder anderen Tipp auf Lager. Auf jeden Fall gibt es so unterschiedliche Arten wütend zu sein und damit umzugehen und die/der ein oder andere erkennt sich wieder in TASCHES Verzweiflung oder Erfolge (die Wut in den Griff zu bekommen).\nAm Ende hat TASCHE alles aufgebaut und singt sein Lied…und das handelt natürlich von WUT.\n\nSpiel : PortFolio Inc.\n\n____________\n\n\nKontakt@theater-grashuepfer.de \n030/53 69 51 50 \n\n 
URL:https://theater-treptower-park.de/termin/tasche-wut-muss-drin-sein-2024-05-22/2024-05-23/
LOCATION:Figurentheater Grashüpfer\, Puschkinallee 16 a\, Berlin\, Berlin\, 12435\, Deutschland
ATTACH;FMTTYPE=image/jpeg:https://theater-treptower-park.de/wp-content/uploads/2023/11/Tasche-fuer-GH.jpg
END:VEVENT
BEGIN:VEVENT
DTSTART;TZID=Europe/Berlin:20240522T100000
DTEND;TZID=Europe/Berlin:20240522T104500
DTSTAMP:20260425T162700
CREATED:20240130T122306Z
LAST-MODIFIED:20240429T084744Z
UID:7007-1716372000-1716374700@theater-treptower-park.de
SUMMARY:TASCHE – Wut muss drin sein
DESCRIPTION:TASCHE hat einen Plan. Er kommt mit seinem Equipment auf eine leere Bühne und baut sein Musik-Pult\, seinen Lautsprecher\, seine Beleuchtung und sogar eine kleine Treppe für den großen Auftritt auf. Alles um ein Lied zu singen. Doch die Bühne ist nicht vollkommen leer. Da liegt ein Stück Klebeband\, vergessen\, nicht gründlich geputzt….da geht es mit TASCHE gleich durch…er regt sich auf\, bekommt ne Wut. TASCHE wird leicht wütend und muss mit seinen Wutanfällen umgehen. Manche atmet oder tanzt er weg\, über andere Wutanfälle muss er reden\, damit diese ganze verrückte Energie raus kommt.\nVielleicht philosophiert er auch über Wut\, hat den ein oder anderen Tipp auf Lager. Auf jeden Fall gibt es so unterschiedliche Arten wütend zu sein und damit umzugehen und die/der ein oder andere erkennt sich wieder in TASCHES Verzweiflung oder Erfolge (die Wut in den Griff zu bekommen).\nAm Ende hat TASCHE alles aufgebaut und singt sein Lied…und das handelt natürlich von WUT.\n\nSpiel : PortFolio Inc.\n\n____________\n\n\nKontakt@theater-grashuepfer.de \n030/53 69 51 50 \n\n 
URL:https://theater-treptower-park.de/termin/tasche-wut-muss-drin-sein-2024-05-22/2024-05-22/
LOCATION:Figurentheater Grashüpfer\, Puschkinallee 16 a\, Berlin\, Berlin\, 12435\, Deutschland
ATTACH;FMTTYPE=image/jpeg:https://theater-treptower-park.de/wp-content/uploads/2023/11/Tasche-fuer-GH.jpg
END:VEVENT
END:VCALENDAR