BEGIN:VCALENDAR
VERSION:2.0
PRODID:-//Figurentheater Grashüpfer - ECPv6.15.12.2//NONSGML v1.0//EN
CALSCALE:GREGORIAN
METHOD:PUBLISH
X-ORIGINAL-URL:https://theater-treptower-park.de
X-WR-CALDESC:Veranstaltungen für Figurentheater Grashüpfer
REFRESH-INTERVAL;VALUE=DURATION:PT1H
X-Robots-Tag:noindex
X-PUBLISHED-TTL:PT1H
BEGIN:VTIMEZONE
TZID:Europe/Berlin
BEGIN:DAYLIGHT
TZOFFSETFROM:+0100
TZOFFSETTO:+0200
TZNAME:CEST
DTSTART:20220327T010000
END:DAYLIGHT
BEGIN:STANDARD
TZOFFSETFROM:+0200
TZOFFSETTO:+0100
TZNAME:CET
DTSTART:20221030T010000
END:STANDARD
BEGIN:DAYLIGHT
TZOFFSETFROM:+0100
TZOFFSETTO:+0200
TZNAME:CEST
DTSTART:20230326T010000
END:DAYLIGHT
BEGIN:STANDARD
TZOFFSETFROM:+0200
TZOFFSETTO:+0100
TZNAME:CET
DTSTART:20231029T010000
END:STANDARD
BEGIN:DAYLIGHT
TZOFFSETFROM:+0100
TZOFFSETTO:+0200
TZNAME:CEST
DTSTART:20240331T010000
END:DAYLIGHT
BEGIN:STANDARD
TZOFFSETFROM:+0200
TZOFFSETTO:+0100
TZNAME:CET
DTSTART:20241027T010000
END:STANDARD
END:VTIMEZONE
BEGIN:VEVENT
DTSTART;TZID=Europe/Berlin:20230506T160000
DTEND;TZID=Europe/Berlin:20230506T163000
DTSTAMP:20260423T183903
CREATED:20230209T220911Z
LAST-MODIFIED:20230502T120119Z
UID:5126-1683388800-1683390600@theater-treptower-park.de
SUMMARY:Wasser und Seife für Hündchen und Kätzchen
DESCRIPTION:Figurentheater nach Josef Čapek \nHündchen und Kätzchen wohnen zusammen in einem kleinen Häuschen und wollen alles so machen wie die großen Menschen. Das ist aber gar nicht so einfach\, wenn man statt Händen und Fingern nur Pfoten und Krallen hat. So scheuern sie den Fußboden mit dem was sie haben und benutzen sich gegenseitig als Wischmopp und Scheuerlappen. Wie werden sie dann wohl Wäsche waschen und trocknen? Ein originelles Spiel mit Tischfiguren und echtem Wasser. \nDauer: 30 Minuten \nSpiel\, Musik\, Technik: Ralf Lücke\nRegie: Kristiane Balsevicius\nFiguren: Michaela Bartoňová\, Antonin Müller\nIdee: Michaela Bartoňová\, Ralf Lücke \nFoto©Katharina Stillisch \nTrailer \nTheater Rafael Zwischenraum \n______ \nWenn Sie gerne für Ihre Gruppe (Kita\, Schule usw.) Plätze reservieren möchten\, nutzen Sie bitte nicht das von Pretix vorgefertigte Ticket-Programm\, sondern wenden Sie sich direkt an uns: \nKontakt@theater-grashuepfer.de \n030/53 69 51 50 \n  \n  \nDie Veranstaltungen vom 6.5.2023 und vom 10.5.2023 sind gefördert durch das KiA-Programm des Bezirksamtes Treptow-Köpenick
URL:https://theater-treptower-park.de/termin/wasser-und-seife-fuer-huendchen-und-kaetzchen-2/2023-05-06/
LOCATION:Figurentheater Grashüpfer\, Puschkinallee 16 a\, Berlin\, Berlin\, 12435\, Deutschland
ATTACH;FMTTYPE=image/jpeg:https://theater-treptower-park.de/wp-content/uploads/2023/02/h_k_wanne_tisch.jpg
END:VEVENT
END:VCALENDAR