BEGIN:VCALENDAR
VERSION:2.0
PRODID:-//Figurentheater Grashüpfer - ECPv6.15.12.2//NONSGML v1.0//EN
CALSCALE:GREGORIAN
METHOD:PUBLISH
X-WR-CALNAME:Figurentheater Grashüpfer
X-ORIGINAL-URL:https://theater-treptower-park.de
X-WR-CALDESC:Veranstaltungen für Figurentheater Grashüpfer
REFRESH-INTERVAL;VALUE=DURATION:PT1H
X-Robots-Tag:noindex
X-PUBLISHED-TTL:PT1H
BEGIN:VTIMEZONE
TZID:Europe/Berlin
BEGIN:DAYLIGHT
TZOFFSETFROM:+0100
TZOFFSETTO:+0200
TZNAME:CEST
DTSTART:20220327T010000
END:DAYLIGHT
BEGIN:STANDARD
TZOFFSETFROM:+0200
TZOFFSETTO:+0100
TZNAME:CET
DTSTART:20221030T010000
END:STANDARD
BEGIN:DAYLIGHT
TZOFFSETFROM:+0100
TZOFFSETTO:+0200
TZNAME:CEST
DTSTART:20230326T010000
END:DAYLIGHT
BEGIN:STANDARD
TZOFFSETFROM:+0200
TZOFFSETTO:+0100
TZNAME:CET
DTSTART:20231029T010000
END:STANDARD
BEGIN:DAYLIGHT
TZOFFSETFROM:+0100
TZOFFSETTO:+0200
TZNAME:CEST
DTSTART:20240331T010000
END:DAYLIGHT
BEGIN:STANDARD
TZOFFSETFROM:+0200
TZOFFSETTO:+0100
TZNAME:CET
DTSTART:20241027T010000
END:STANDARD
END:VTIMEZONE
BEGIN:VEVENT
DTSTART;TZID=Europe/Berlin:20230520T160000
DTEND;TZID=Europe/Berlin:20230520T165000
DTSTAMP:20260424T021333
CREATED:20230209T222959Z
LAST-MODIFIED:20230222T163511Z
UID:5147-1684598400-1684601400@theater-treptower-park.de
SUMMARY:Wie Kater Zorbas der kleinen Möwe das Fliegen beibrachte
DESCRIPTION:Puppenspiel nach dem bekannten Kinderbuch von Luis Sepúlveda \nDer gutmütige Kater Zorbas gibt einer sterbenden Möwe das Versprechen\, ihr Ei auszubrüten\, das Möwenküken großzuziehen und ihm das Fliegen beizubringen. \nKeine leichten Aufgaben für einen Kater\, aber versprochen ist versprochen! Anfangs stehen ihm die Hamburger Hafenkatzen mit Rat und Tat zur Seite. Die kleine Möwe wächst und gedeiht. Aber mit dem Fliegenlernen ist es schwerer als gedacht. Da muss sich Zorbas etwas Besonderes einfallen lassen … \nEine abenteuerliche Geschichte über Verantwortung\, Versprechen und über Freundschaft. \nfür Flugtüchtige ab 5 Jahren \nSpieldauer: etwa 50 Minuten\nIdee/Konzeption: Artisanen\nSpiel: Inga Schmidt\, Stefan Spitzer\nPuppen/Bühnenbau: Stefan Spitzer\nRegie: France Damian\nFotografin: Sandra Hermannsen\nAufführungsrechte: S. Fischer Verlag\, Frankfurt am Main \nTrailer \nArtisanen
URL:https://theater-treptower-park.de/termin/wie-kater-zorbas-der-kleinen-moewe-das-fliegen-beibrachte/2023-05-20/
LOCATION:Figurentheater Grashüpfer\, Puschkinallee 16 a\, Berlin\, Berlin\, 12435\, Deutschland
ATTACH;FMTTYPE=image/jpeg:https://theater-treptower-park.de/wp-content/uploads/2023/02/388A7360a-scaled.jpg
END:VEVENT
END:VCALENDAR