BEGIN:VCALENDAR
VERSION:2.0
PRODID:-//Figurentheater Grashüpfer - ECPv6.15.12.2//NONSGML v1.0//EN
CALSCALE:GREGORIAN
METHOD:PUBLISH
X-ORIGINAL-URL:https://theater-treptower-park.de
X-WR-CALDESC:Veranstaltungen für Figurentheater Grashüpfer
REFRESH-INTERVAL;VALUE=DURATION:PT1H
X-Robots-Tag:noindex
X-PUBLISHED-TTL:PT1H
BEGIN:VTIMEZONE
TZID:Europe/Berlin
BEGIN:DAYLIGHT
TZOFFSETFROM:+0100
TZOFFSETTO:+0200
TZNAME:CEST
DTSTART:20220327T010000
END:DAYLIGHT
BEGIN:STANDARD
TZOFFSETFROM:+0200
TZOFFSETTO:+0100
TZNAME:CET
DTSTART:20221030T010000
END:STANDARD
BEGIN:DAYLIGHT
TZOFFSETFROM:+0100
TZOFFSETTO:+0200
TZNAME:CEST
DTSTART:20230326T010000
END:DAYLIGHT
BEGIN:STANDARD
TZOFFSETFROM:+0200
TZOFFSETTO:+0100
TZNAME:CET
DTSTART:20231029T010000
END:STANDARD
BEGIN:DAYLIGHT
TZOFFSETFROM:+0100
TZOFFSETTO:+0200
TZNAME:CEST
DTSTART:20240331T010000
END:DAYLIGHT
BEGIN:STANDARD
TZOFFSETFROM:+0200
TZOFFSETTO:+0100
TZNAME:CET
DTSTART:20241027T010000
END:STANDARD
END:VTIMEZONE
BEGIN:VEVENT
DTSTART;TZID=Europe/Berlin:20231101T100000
DTEND;TZID=Europe/Berlin:20231101T104000
DTSTAMP:20260423T200427
CREATED:20220919T102749Z
LAST-MODIFIED:20231024T093631Z
UID:4431-1698832800-1698835200@theater-treptower-park.de
SUMMARY:Wind im Gummistiefel
DESCRIPTION:Er zaust und braust\, es flattert und stürmt\, weht Mützen vom Kopf und Blätter samt Äpfeln vom Baum. Den Regenschirm aufgespannt und die Gummistiefel an\, plitsch und platsch geht es durch die Pfützen. \nDer Wind gerät ins Mauseloch und pustet Mausekind Jakob kräftig durch. Der staunt nicht schlecht über den bunten Blätterwirbel. \nEr versucht sich im Drachensteigen und beim Erntefest schlägt leider schon die Mäuseuhr für den Winterschlaf… \nSpiel: Susanne Olbrich \nwww.theaterfusion-berlin.de \nDauer: 40 Minuten \nDie Veranstaltung wird gefördert durch die Mittel des KiA-Programms der Senatsverwaltung für Kultur und Europa. \n \n________________ \nWenn Sie gerne für Ihre Gruppe (Kita\, Schule usw.) Plätze reservieren möchten\, nutzen Sie bitte nicht das von Pretix vorgefertigte Ticket-Programm\, sondern wenden Sie sich direkt an uns: \nKontakt@theater-grashuepfer.de \n030/53 69 51 50
URL:https://theater-treptower-park.de/termin/wind-im-gummistiefel-theater-fusion-ab-2/2023-11-01/
LOCATION:Figurentheater Grashüpfer\, Puschkinallee 16 a\, Berlin\, Berlin\, 12435\, Deutschland
END:VEVENT
END:VCALENDAR