BEGIN:VCALENDAR
VERSION:2.0
PRODID:-//Figurentheater Grashüpfer - ECPv6.15.12.2//NONSGML v1.0//EN
CALSCALE:GREGORIAN
METHOD:PUBLISH
X-WR-CALNAME:Figurentheater Grashüpfer
X-ORIGINAL-URL:https://theater-treptower-park.de
X-WR-CALDESC:Veranstaltungen für Figurentheater Grashüpfer
REFRESH-INTERVAL;VALUE=DURATION:PT1H
X-Robots-Tag:noindex
X-PUBLISHED-TTL:PT1H
BEGIN:VTIMEZONE
TZID:Europe/Berlin
BEGIN:DAYLIGHT
TZOFFSETFROM:+0100
TZOFFSETTO:+0200
TZNAME:CEST
DTSTART:20210328T010000
END:DAYLIGHT
BEGIN:STANDARD
TZOFFSETFROM:+0200
TZOFFSETTO:+0100
TZNAME:CET
DTSTART:20211031T010000
END:STANDARD
BEGIN:DAYLIGHT
TZOFFSETFROM:+0100
TZOFFSETTO:+0200
TZNAME:CEST
DTSTART:20220327T010000
END:DAYLIGHT
BEGIN:STANDARD
TZOFFSETFROM:+0200
TZOFFSETTO:+0100
TZNAME:CET
DTSTART:20221030T010000
END:STANDARD
BEGIN:DAYLIGHT
TZOFFSETFROM:+0100
TZOFFSETTO:+0200
TZNAME:CEST
DTSTART:20230326T010000
END:DAYLIGHT
BEGIN:STANDARD
TZOFFSETFROM:+0200
TZOFFSETTO:+0100
TZNAME:CET
DTSTART:20231029T010000
END:STANDARD
END:VTIMEZONE
BEGIN:VEVENT
DTSTART;TZID=Europe/Berlin:20220925T120000
DTEND;TZID=Europe/Berlin:20220925T130000
DTSTAMP:20260423T214837
CREATED:20220804T111905Z
LAST-MODIFIED:20220918T094653Z
UID:4179-1664107200-1664110800@theater-treptower-park.de
SUMMARY:OUTDOOR: Jochen der sprechende Elefant // Matthias Trautmann - Weimar
DESCRIPTION:Jochen ist: \ngesprächig\, interessiert\, zurückhaltend\, kinderlieb\, einmalig\, bestechlich\, berühmt (bald)\, unabhängig\,\nschwer zu steuern\, verständnisvoll\, privat sehr zurückgezogen\, launisch\, schwerhörig\, charmant\,\nWILLIG\, untersetzt\, kräftig\, wunderbar ! \nJochen kann: \ndeutsch\, lachen\, fahren\, zuhören\, anhalten\, lenken\, überlegen\, antworten\, fragen\, sagen\,\nspielen\, unterhalten\, verstehen\, bewegen! \nJochen der Elefant ist eine Mimikfigur\, die für Kunstaktionen konzipiert wurde.\nJochen ist ca. 1\,10 groß und bewegt sich durch modernste Fernsteuertechnik völlig autark durch Ihr Publikum\, fährt Fahrrad\, spielt Musik und unterhält sich mit den Menschen.\nEr ist Liebling der Kinder\, Ladysman und technischer Modellbau in Hochform. \nPreis: kostenlos \nWo: zwischen S-Bahn Station Treptower Park und Figurentheater Grashüpfer \njochen-der-elefant.de
URL:https://theater-treptower-park.de/termin/outdoor-jochen-der-sprechende-elefant-matthias-trautmann-weimar/
LOCATION:S-Bahn Treptower Park\, Berlin\, 12435
ATTACH;FMTTYPE=image/jpeg:https://theater-treptower-park.de/wp-content/uploads/2022/08/jochen_hgr-weiss-scaled.jpg
END:VEVENT
END:VCALENDAR